BEGIN:VCALENDAR
VERSION:2.0
PRODID:-//Pecq et ses villages - ECPv6.15.17.1//NONSGML v1.0//EN
CALSCALE:GREGORIAN
METHOD:PUBLISH
X-ORIGINAL-URL:https://visitpecq.com
X-WR-CALDESC:Évènements pour Pecq et ses villages
REFRESH-INTERVAL;VALUE=DURATION:PT1H
X-Robots-Tag:noindex
X-PUBLISHED-TTL:PT1H
BEGIN:VTIMEZONE
TZID:Europe/Brussels
BEGIN:DAYLIGHT
TZOFFSETFROM:+0100
TZOFFSETTO:+0200
TZNAME:CEST
DTSTART:20250330T010000
END:DAYLIGHT
BEGIN:STANDARD
TZOFFSETFROM:+0200
TZOFFSETTO:+0100
TZNAME:CET
DTSTART:20251026T010000
END:STANDARD
BEGIN:DAYLIGHT
TZOFFSETFROM:+0100
TZOFFSETTO:+0200
TZNAME:CEST
DTSTART:20260329T010000
END:DAYLIGHT
BEGIN:STANDARD
TZOFFSETFROM:+0200
TZOFFSETTO:+0100
TZNAME:CET
DTSTART:20261025T010000
END:STANDARD
BEGIN:DAYLIGHT
TZOFFSETFROM:+0100
TZOFFSETTO:+0200
TZNAME:CEST
DTSTART:20270328T010000
END:DAYLIGHT
BEGIN:STANDARD
TZOFFSETFROM:+0200
TZOFFSETTO:+0100
TZNAME:CET
DTSTART:20271031T010000
END:STANDARD
END:VTIMEZONE
BEGIN:VEVENT
DTSTART;TZID=Europe/Brussels:20260425T100000
DTEND;TZID=Europe/Brussels:20260425T113000
DTSTAMP:20260423T110701
CREATED:20260413T080440Z
LAST-MODIFIED:20260413T080603Z
UID:10004242-1777111200-1777116600@visitpecq.com
SUMMARY:Vivre un deuil à l'adolescence
DESCRIPTION:﻿
URL:https://visitpecq.com/vpevent/vivre-un-deuil-a-ladolescence/2026-04-25/
LOCATION:Pecq Accueil\, rue de la Croix-Rouge 7\, Pecq\, Hainaut\, 7740\, Belgium
CATEGORIES:Ateliers
ATTACH;FMTTYPE=image/jpeg:https://visitpecq.com/wp-content/uploads/2026/04/pexels-photo-697243-697243.jpg
ORGANIZER;CN="Biblioth%C3%A8que de Pecq":MAILTO:bibliotheque@pecq.be
END:VEVENT
BEGIN:VEVENT
DTSTART;VALUE=DATE:20260428
DTEND;VALUE=DATE:20260430
DTSTAMP:20260423T110701
CREATED:20260328T113822Z
LAST-MODIFIED:20260328T113823Z
UID:10002781-1777334400-1777507199@visitpecq.com
SUMMARY:Lego : Robots téléguidés
DESCRIPTION:Deviens un mini-ingénieur LEGO ! \n\n\nLes enfants de 8 à 12 ans pourront construire et programmer leur propre robot en LEGO \nUn moment ludique et créatif pour apprendre tout en jouant !\n\n\nRéservation au 069236528
URL:https://visitpecq.com/vpevent/lego-robots-teleguides-2/
LOCATION:Pecq – Bibliothèque\, rue des Déportés 8a\, Pecq\, Hainaut\, 7740\, Belgium
CATEGORIES:Ateliers,Loisirs
ATTACH;FMTTYPE=image/png:https://visitpecq.com/wp-content/uploads/2026/03/robots-lego.png
ORGANIZER;CN="Biblioth%C3%A8que de Pecq":MAILTO:bibliotheque@pecq.be
END:VEVENT
BEGIN:VEVENT
DTSTART;VALUE=DATE:20260505
DTEND;VALUE=DATE:20260507
DTSTAMP:20260423T110701
CREATED:20260328T113637Z
LAST-MODIFIED:20260328T113637Z
UID:10002782-1777968000-1778086800@visitpecq.com
SUMMARY:Lego : Robots téléguidés
DESCRIPTION:Deviens un mini-ingénieur LEGO ! \n\n\nLes enfants de 8 à 12 ans pourront construire et programmer leur propre robot en LEGO \nUn moment ludique et créatif pour apprendre tout en jouant !\n\n\nRéservation au 069236528
URL:https://visitpecq.com/vpevent/lego-robots-teleguides/2026-05-05/
LOCATION:Pecq – Bibliothèque\, rue des Déportés 8a\, Pecq\, Hainaut\, 7740\, Belgium
CATEGORIES:Ateliers,Loisirs
ATTACH;FMTTYPE=image/png:https://visitpecq.com/wp-content/uploads/2026/03/robots-lego.png
ORGANIZER;CN="Biblioth%C3%A8que de Pecq":MAILTO:bibliotheque@pecq.be
END:VEVENT
BEGIN:VEVENT
DTSTART;TZID=Europe/Brussels:20260513T180000
DTEND;TZID=Europe/Brussels:20260513T200000
DTSTAMP:20260423T110701
CREATED:20260413T081135Z
LAST-MODIFIED:20260413T081135Z
UID:10004245-1778695200-1778702400@visitpecq.com
SUMMARY:Une fleur éternelle
DESCRIPTION:
URL:https://visitpecq.com/vpevent/une-fleur-eternelle/
LOCATION:Pecq – Bibliothèque\, rue des Déportés 8a\, Pecq\, Hainaut\, 7740\, Belgium
CATEGORIES:Ateliers
ATTACH;FMTTYPE=image/jpeg:https://visitpecq.com/wp-content/uploads/2026/04/pexels-photo-15291148-15291148.jpg
ORGANIZER;CN="Biblioth%C3%A8que de Pecq":MAILTO:bibliotheque@pecq.be
END:VEVENT
BEGIN:VEVENT
DTSTART;TZID=Europe/Brussels:20260523T100000
DTEND;TZID=Europe/Brussels:20260523T120000
DTSTAMP:20260423T110701
CREATED:20251201T120427Z
LAST-MODIFIED:20260127T093308Z
UID:10002430-1779530400-1779537600@visitpecq.com
SUMMARY:Atelier de généalogie
DESCRIPTION:family♠ Un samedi matin par mois\, Maurice Trooster vous donne rendez-vous dans les locaux de la Bibliothèque pour un atelier de généalogie. \n◊ Infos sur cette activité par mail: info@anama.be
URL:https://visitpecq.com/vpevent/atelier-de-genealogie-9/
LOCATION:Pecq – Bibliothèque\, rue des Déportés 8a\, Pecq\, Hainaut\, 7740\, Belgium
CATEGORIES:Ateliers,Culture,Loisirs
ATTACH;FMTTYPE=image/jpeg:https://visitpecq.com/wp-content/uploads/2025/12/pexels-photo-17323743-17323743.jpg
END:VEVENT
BEGIN:VEVENT
DTSTART;TZID=Europe/Brussels:20260530T100000
DTEND;TZID=Europe/Brussels:20260530T113000
DTSTAMP:20260423T110701
CREATED:20260413T080440Z
LAST-MODIFIED:20260413T080603Z
UID:10004243-1780135200-1780140600@visitpecq.com
SUMMARY:Vivre un deuil à l'adolescence
DESCRIPTION:﻿
URL:https://visitpecq.com/vpevent/vivre-un-deuil-a-ladolescence/2026-05-30/
LOCATION:Pecq Accueil\, rue de la Croix-Rouge 7\, Pecq\, Hainaut\, 7740\, Belgium
CATEGORIES:Ateliers
ATTACH;FMTTYPE=image/jpeg:https://visitpecq.com/wp-content/uploads/2026/04/pexels-photo-697243-697243.jpg
ORGANIZER;CN="Biblioth%C3%A8que de Pecq":MAILTO:bibliotheque@pecq.be
END:VEVENT
BEGIN:VEVENT
DTSTART;TZID=Europe/Brussels:20260627T100000
DTEND;TZID=Europe/Brussels:20260627T113000
DTSTAMP:20260423T110701
CREATED:20260413T080440Z
LAST-MODIFIED:20260413T080603Z
UID:10004244-1782554400-1782559800@visitpecq.com
SUMMARY:Vivre un deuil à l'adolescence
DESCRIPTION:﻿
URL:https://visitpecq.com/vpevent/vivre-un-deuil-a-ladolescence/2026-06-27/
LOCATION:Pecq Accueil\, rue de la Croix-Rouge 7\, Pecq\, Hainaut\, 7740\, Belgium
CATEGORIES:Ateliers
ATTACH;FMTTYPE=image/jpeg:https://visitpecq.com/wp-content/uploads/2026/04/pexels-photo-697243-697243.jpg
ORGANIZER;CN="Biblioth%C3%A8que de Pecq":MAILTO:bibliotheque@pecq.be
END:VEVENT
BEGIN:VEVENT
DTSTART;TZID=Europe/Brussels:20260627T100000
DTEND;TZID=Europe/Brussels:20260627T120000
DTSTAMP:20260423T110701
CREATED:20251201T120802Z
LAST-MODIFIED:20260127T093307Z
UID:10002431-1782554400-1782561600@visitpecq.com
SUMMARY:Atelier de généalogie
DESCRIPTION:family♠ Un samedi matin par mois\, Maurice Trooster vous donne rendez-vous dans les locaux de la Bibliothèque pour un atelier de généalogie. \n◊ Infos sur cette activité par mail: info@anama.be
URL:https://visitpecq.com/vpevent/atelier-de-genealogie-10/
LOCATION:Pecq – Bibliothèque\, rue des Déportés 8a\, Pecq\, Hainaut\, 7740\, Belgium
CATEGORIES:Ateliers,Culture,Loisirs
ATTACH;FMTTYPE=image/jpeg:https://visitpecq.com/wp-content/uploads/2025/12/pexels-photo-3617536-3617536-e1764590861169.jpg
END:VEVENT
END:VCALENDAR