BEGIN:VCALENDAR
VERSION:2.0
PRODID:-//Pecq et ses villages - ECPv6.15.17.1//NONSGML v1.0//EN
CALSCALE:GREGORIAN
METHOD:PUBLISH
X-ORIGINAL-URL:https://visitpecq.com
X-WR-CALDESC:Évènements pour Pecq et ses villages
REFRESH-INTERVAL;VALUE=DURATION:PT1H
X-Robots-Tag:noindex
X-PUBLISHED-TTL:PT1H
BEGIN:VTIMEZONE
TZID:Europe/Brussels
BEGIN:DAYLIGHT
TZOFFSETFROM:+0100
TZOFFSETTO:+0200
TZNAME:CEST
DTSTART:20250330T010000
END:DAYLIGHT
BEGIN:STANDARD
TZOFFSETFROM:+0200
TZOFFSETTO:+0100
TZNAME:CET
DTSTART:20251026T010000
END:STANDARD
BEGIN:DAYLIGHT
TZOFFSETFROM:+0100
TZOFFSETTO:+0200
TZNAME:CEST
DTSTART:20260329T010000
END:DAYLIGHT
BEGIN:STANDARD
TZOFFSETFROM:+0200
TZOFFSETTO:+0100
TZNAME:CET
DTSTART:20261025T010000
END:STANDARD
BEGIN:DAYLIGHT
TZOFFSETFROM:+0100
TZOFFSETTO:+0200
TZNAME:CEST
DTSTART:20270328T010000
END:DAYLIGHT
BEGIN:STANDARD
TZOFFSETFROM:+0200
TZOFFSETTO:+0100
TZNAME:CET
DTSTART:20271031T010000
END:STANDARD
END:VTIMEZONE
BEGIN:VEVENT
DTSTART;TZID=Europe/Brussels:20260423T080000
DTEND;TZID=Europe/Brussels:20260423T120000
DTSTAMP:20260423T160503
CREATED:20260406T092127Z
LAST-MODIFIED:20260406T101147Z
UID:10003834-1776931200-1776945600@visitpecq.com
SUMMARY:Permanences Emploi Esc'Ale
DESCRIPTION:
URL:https://visitpecq.com/vpevent/permanences-emploi-escale-4/2026-04-23/
LOCATION:Pecq – Bibliothèque\, rue des Déportés 8a\, Pecq\, Hainaut\, 7740\, Belgium
CATEGORIES:Entraide
ATTACH;FMTTYPE=image/jpeg:https://visitpecq.com/wp-content/uploads/2026/04/dream-job-2904780_150-2904780.jpg
END:VEVENT
BEGIN:VEVENT
DTSTART;TZID=Europe/Brussels:20260422T130000
DTEND;TZID=Europe/Brussels:20260422T163000
DTSTAMP:20260423T160503
CREATED:20260406T091157Z
LAST-MODIFIED:20260406T101059Z
UID:10003912-1776862800-1776875400@visitpecq.com
SUMMARY:Permanences Emploi Esc'Ale
DESCRIPTION:
URL:https://visitpecq.com/vpevent/permanences-emploi-escale-3/2026-04-22/
LOCATION:Pecq – Bibliothèque\, rue des Déportés 8a\, Pecq\, Hainaut\, 7740\, Belgium
CATEGORIES:Entraide
ATTACH;FMTTYPE=image/png:https://visitpecq.com/wp-content/uploads/2026/04/job-search.png
END:VEVENT
BEGIN:VEVENT
DTSTART;TZID=Europe/Brussels:20260421T130000
DTEND;TZID=Europe/Brussels:20260421T163000
DTSTAMP:20260423T160503
CREATED:20260406T091109Z
LAST-MODIFIED:20260406T101211Z
UID:10003678-1776776400-1776789000@visitpecq.com
SUMMARY:Permanences Emploi Esc'Ale
DESCRIPTION:
URL:https://visitpecq.com/vpevent/permanences-emploi-escale-2/2026-04-21/
LOCATION:Pecq – Bibliothèque\, rue des Déportés 8a\, Pecq\, Hainaut\, 7740\, Belgium
CATEGORIES:Entraide
ATTACH;FMTTYPE=image/jpeg:https://visitpecq.com/wp-content/uploads/2026/04/dream-job-2904780_150-2904780.jpg
END:VEVENT
BEGIN:VEVENT
DTSTART;TZID=Europe/Brussels:20260420T080000
DTEND;TZID=Europe/Brussels:20260420T120000
DTSTAMP:20260423T160503
CREATED:20260406T090525Z
LAST-MODIFIED:20260406T101225Z
UID:10003600-1776672000-1776686400@visitpecq.com
SUMMARY:Permanences Emploi Esc'Ale
DESCRIPTION:
URL:https://visitpecq.com/vpevent/permanences-emploi-escale/2026-04-20/
LOCATION:Pecq – Bibliothèque\, rue des Déportés 8a\, Pecq\, Hainaut\, 7740\, Belgium
CATEGORIES:Entraide
ATTACH;FMTTYPE=image/jpeg:https://visitpecq.com/wp-content/uploads/2026/04/dream-job-2904780_150-2904780.jpg
END:VEVENT
BEGIN:VEVENT
DTSTART;TZID=Europe/Brussels:20260416T080000
DTEND;TZID=Europe/Brussels:20260416T120000
DTSTAMP:20260423T160503
CREATED:20260406T092127Z
LAST-MODIFIED:20260406T101147Z
UID:10003833-1776326400-1776340800@visitpecq.com
SUMMARY:Permanences Emploi Esc'Ale
DESCRIPTION:
URL:https://visitpecq.com/vpevent/permanences-emploi-escale-4/2026-04-16/
LOCATION:Pecq – Bibliothèque\, rue des Déportés 8a\, Pecq\, Hainaut\, 7740\, Belgium
CATEGORIES:Entraide
ATTACH;FMTTYPE=image/jpeg:https://visitpecq.com/wp-content/uploads/2026/04/dream-job-2904780_150-2904780.jpg
END:VEVENT
BEGIN:VEVENT
DTSTART;TZID=Europe/Brussels:20260415T130000
DTEND;TZID=Europe/Brussels:20260415T163000
DTSTAMP:20260423T160503
CREATED:20260406T091157Z
LAST-MODIFIED:20260406T101059Z
UID:10003911-1776258000-1776270600@visitpecq.com
SUMMARY:Permanences Emploi Esc'Ale
DESCRIPTION:
URL:https://visitpecq.com/vpevent/permanences-emploi-escale-3/2026-04-15/
LOCATION:Pecq – Bibliothèque\, rue des Déportés 8a\, Pecq\, Hainaut\, 7740\, Belgium
CATEGORIES:Entraide
ATTACH;FMTTYPE=image/png:https://visitpecq.com/wp-content/uploads/2026/04/job-search.png
END:VEVENT
BEGIN:VEVENT
DTSTART;TZID=Europe/Brussels:20260414T130000
DTEND;TZID=Europe/Brussels:20260414T163000
DTSTAMP:20260423T160503
CREATED:20260406T091109Z
LAST-MODIFIED:20260406T101211Z
UID:10003677-1776171600-1776184200@visitpecq.com
SUMMARY:Permanences Emploi Esc'Ale
DESCRIPTION:
URL:https://visitpecq.com/vpevent/permanences-emploi-escale-2/2026-04-14/
LOCATION:Pecq – Bibliothèque\, rue des Déportés 8a\, Pecq\, Hainaut\, 7740\, Belgium
CATEGORIES:Entraide
ATTACH;FMTTYPE=image/jpeg:https://visitpecq.com/wp-content/uploads/2026/04/dream-job-2904780_150-2904780.jpg
END:VEVENT
BEGIN:VEVENT
DTSTART;TZID=Europe/Brussels:20260413T080000
DTEND;TZID=Europe/Brussels:20260413T120000
DTSTAMP:20260423T160503
CREATED:20260406T090525Z
LAST-MODIFIED:20260406T101225Z
UID:10003599-1776067200-1776081600@visitpecq.com
SUMMARY:Permanences Emploi Esc'Ale
DESCRIPTION:
URL:https://visitpecq.com/vpevent/permanences-emploi-escale/2026-04-13/
LOCATION:Pecq – Bibliothèque\, rue des Déportés 8a\, Pecq\, Hainaut\, 7740\, Belgium
CATEGORIES:Entraide
ATTACH;FMTTYPE=image/jpeg:https://visitpecq.com/wp-content/uploads/2026/04/dream-job-2904780_150-2904780.jpg
END:VEVENT
BEGIN:VEVENT
DTSTART;TZID=Europe/Brussels:20260409T080000
DTEND;TZID=Europe/Brussels:20260409T120000
DTSTAMP:20260423T160503
CREATED:20260406T092127Z
LAST-MODIFIED:20260406T101147Z
UID:10003832-1775721600-1775736000@visitpecq.com
SUMMARY:Permanences Emploi Esc'Ale
DESCRIPTION:
URL:https://visitpecq.com/vpevent/permanences-emploi-escale-4/2026-04-09/
LOCATION:Pecq – Bibliothèque\, rue des Déportés 8a\, Pecq\, Hainaut\, 7740\, Belgium
CATEGORIES:Entraide
ATTACH;FMTTYPE=image/jpeg:https://visitpecq.com/wp-content/uploads/2026/04/dream-job-2904780_150-2904780.jpg
END:VEVENT
BEGIN:VEVENT
DTSTART;TZID=Europe/Brussels:20260408T130000
DTEND;TZID=Europe/Brussels:20260408T163000
DTSTAMP:20260423T160503
CREATED:20260406T091157Z
LAST-MODIFIED:20260406T101059Z
UID:10003910-1775653200-1775665800@visitpecq.com
SUMMARY:Permanences Emploi Esc'Ale
DESCRIPTION:
URL:https://visitpecq.com/vpevent/permanences-emploi-escale-3/2026-04-08/
LOCATION:Pecq – Bibliothèque\, rue des Déportés 8a\, Pecq\, Hainaut\, 7740\, Belgium
CATEGORIES:Entraide
ATTACH;FMTTYPE=image/png:https://visitpecq.com/wp-content/uploads/2026/04/job-search.png
END:VEVENT
BEGIN:VEVENT
DTSTART;TZID=Europe/Brussels:20260407T130000
DTEND;TZID=Europe/Brussels:20260407T163000
DTSTAMP:20260423T160503
CREATED:20260406T091109Z
LAST-MODIFIED:20260406T101211Z
UID:10003676-1775566800-1775579400@visitpecq.com
SUMMARY:Permanences Emploi Esc'Ale
DESCRIPTION:
URL:https://visitpecq.com/vpevent/permanences-emploi-escale-2/2026-04-07/
LOCATION:Pecq – Bibliothèque\, rue des Déportés 8a\, Pecq\, Hainaut\, 7740\, Belgium
CATEGORIES:Entraide
ATTACH;FMTTYPE=image/jpeg:https://visitpecq.com/wp-content/uploads/2026/04/dream-job-2904780_150-2904780.jpg
END:VEVENT
BEGIN:VEVENT
DTSTART;TZID=Europe/Brussels:20260406T080000
DTEND;TZID=Europe/Brussels:20260406T120000
DTSTAMP:20260423T160503
CREATED:20260406T090525Z
LAST-MODIFIED:20260406T101225Z
UID:10003598-1775462400-1775476800@visitpecq.com
SUMMARY:Permanences Emploi Esc'Ale
DESCRIPTION:
URL:https://visitpecq.com/vpevent/permanences-emploi-escale/2026-04-06/
LOCATION:Pecq – Bibliothèque\, rue des Déportés 8a\, Pecq\, Hainaut\, 7740\, Belgium
CATEGORIES:Entraide
ATTACH;FMTTYPE=image/jpeg:https://visitpecq.com/wp-content/uploads/2026/04/dream-job-2904780_150-2904780.jpg
END:VEVENT
END:VCALENDAR