BEGIN:VCALENDAR
VERSION:2.0
PRODID:-//Pecq et ses villages - ECPv6.15.17.1//NONSGML v1.0//EN
CALSCALE:GREGORIAN
METHOD:PUBLISH
X-ORIGINAL-URL:https://visitpecq.com
X-WR-CALDESC:Évènements pour Pecq et ses villages
REFRESH-INTERVAL;VALUE=DURATION:PT1H
X-Robots-Tag:noindex
X-PUBLISHED-TTL:PT1H
BEGIN:VTIMEZONE
TZID:Europe/Brussels
BEGIN:DAYLIGHT
TZOFFSETFROM:+0100
TZOFFSETTO:+0200
TZNAME:CEST
DTSTART:20250330T010000
END:DAYLIGHT
BEGIN:STANDARD
TZOFFSETFROM:+0200
TZOFFSETTO:+0100
TZNAME:CET
DTSTART:20251026T010000
END:STANDARD
BEGIN:DAYLIGHT
TZOFFSETFROM:+0100
TZOFFSETTO:+0200
TZNAME:CEST
DTSTART:20260329T010000
END:DAYLIGHT
BEGIN:STANDARD
TZOFFSETFROM:+0200
TZOFFSETTO:+0100
TZNAME:CET
DTSTART:20261025T010000
END:STANDARD
BEGIN:DAYLIGHT
TZOFFSETFROM:+0100
TZOFFSETTO:+0200
TZNAME:CEST
DTSTART:20270328T010000
END:DAYLIGHT
BEGIN:STANDARD
TZOFFSETFROM:+0200
TZOFFSETTO:+0100
TZNAME:CET
DTSTART:20271031T010000
END:STANDARD
END:VTIMEZONE
BEGIN:VEVENT
DTSTART;TZID=Europe/Brussels:20260518T090000
DTEND;TZID=Europe/Brussels:20260518T120000
DTSTAMP:20260425T174713
CREATED:20260401T165828Z
LAST-MODIFIED:20260401T165828Z
UID:10002904-1779094800-1779105600@visitpecq.com
SUMMARY:Permis de conduire
DESCRIPTION:
URL:https://visitpecq.com/vpevent/permis-de-conduire/2026-05-18/
LOCATION:Pecq – Admin. communale\, rue des Déportés 10\, Pecq\, 7740\, Belgique
CATEGORIES:Formations
ATTACH;FMTTYPE=image/jpeg:https://visitpecq.com/wp-content/uploads/2026/04/pexels-photo-36240484-36240484.jpg
END:VEVENT
BEGIN:VEVENT
DTSTART;TZID=Europe/Brussels:20260519T090000
DTEND;TZID=Europe/Brussels:20260519T120000
DTSTAMP:20260425T174713
CREATED:20260401T165828Z
LAST-MODIFIED:20260401T165828Z
UID:10002905-1779181200-1779192000@visitpecq.com
SUMMARY:Permis de conduire
DESCRIPTION:
URL:https://visitpecq.com/vpevent/permis-de-conduire/2026-05-19/
LOCATION:Pecq – Admin. communale\, rue des Déportés 10\, Pecq\, 7740\, Belgique
CATEGORIES:Formations
ATTACH;FMTTYPE=image/jpeg:https://visitpecq.com/wp-content/uploads/2026/04/pexels-photo-36240484-36240484.jpg
END:VEVENT
END:VCALENDAR