BEGIN:VCALENDAR
VERSION:2.0
PRODID:-//Pecq et ses villages - ECPv6.15.17.1//NONSGML v1.0//EN
CALSCALE:GREGORIAN
METHOD:PUBLISH
X-WR-CALNAME:Pecq et ses villages
X-ORIGINAL-URL:https://visitpecq.com
X-WR-CALDESC:Évènements pour Pecq et ses villages
REFRESH-INTERVAL;VALUE=DURATION:PT1H
X-Robots-Tag:noindex
X-PUBLISHED-TTL:PT1H
BEGIN:VTIMEZONE
TZID:Europe/Brussels
BEGIN:DAYLIGHT
TZOFFSETFROM:+0100
TZOFFSETTO:+0200
TZNAME:CEST
DTSTART:20250330T010000
END:DAYLIGHT
BEGIN:STANDARD
TZOFFSETFROM:+0200
TZOFFSETTO:+0100
TZNAME:CET
DTSTART:20251026T010000
END:STANDARD
BEGIN:DAYLIGHT
TZOFFSETFROM:+0100
TZOFFSETTO:+0200
TZNAME:CEST
DTSTART:20260329T010000
END:DAYLIGHT
BEGIN:STANDARD
TZOFFSETFROM:+0200
TZOFFSETTO:+0100
TZNAME:CET
DTSTART:20261025T010000
END:STANDARD
BEGIN:DAYLIGHT
TZOFFSETFROM:+0100
TZOFFSETTO:+0200
TZNAME:CEST
DTSTART:20270328T010000
END:DAYLIGHT
BEGIN:STANDARD
TZOFFSETFROM:+0200
TZOFFSETTO:+0100
TZNAME:CET
DTSTART:20271031T010000
END:STANDARD
END:VTIMEZONE
BEGIN:VEVENT
DTSTART;TZID=Europe/Brussels:20260813T193000
DTEND;TZID=Europe/Brussels:20260813T220000
DTSTAMP:20260424T025255
CREATED:20260201T171605Z
LAST-MODIFIED:20260201T171820Z
UID:10467-1786649400-1786658400@visitpecq.com
SUMMARY:Courses "L'Hérinnoise" & "La Cavrinnoise"
DESCRIPTION:L’hérinnoise (et sa petite sœur La cavrinnoise) ont trouvé refuge sur le site du Festival des Jeunes d’Obigies. \nJogging\, chapiteau\, bars et musique  : alliance gagnant / gagnant …
URL:https://visitpecq.com/vpevent/courses-lherinnoise-la-cavrinnoise/
LOCATION:Obigies – Festival\, rue Frayère\, Hainaut\, 7743\, Belgium
CATEGORIES:Epreuves sportives,Evénements
ATTACH;FMTTYPE=image/jpeg:https://visitpecq.com/wp-content/uploads/2026/02/pexels-photo-29400388-29400388.jpg
ORGANIZER;CN="H%C3%A9rinnes - JCH":MAILTO:jcherinnes@hotmail.com
END:VEVENT
END:VCALENDAR