BEGIN:VCALENDAR
VERSION:2.0
PRODID:-//Pecq et ses villages - ECPv6.15.17.1//NONSGML v1.0//EN
CALSCALE:GREGORIAN
METHOD:PUBLISH
X-WR-CALNAME:Pecq et ses villages
X-ORIGINAL-URL:https://visitpecq.com
X-WR-CALDESC:Évènements pour Pecq et ses villages
REFRESH-INTERVAL;VALUE=DURATION:PT1H
X-Robots-Tag:noindex
X-PUBLISHED-TTL:PT1H
BEGIN:VTIMEZONE
TZID:Europe/Brussels
BEGIN:DAYLIGHT
TZOFFSETFROM:+0100
TZOFFSETTO:+0200
TZNAME:CEST
DTSTART:20250330T010000
END:DAYLIGHT
BEGIN:STANDARD
TZOFFSETFROM:+0200
TZOFFSETTO:+0100
TZNAME:CET
DTSTART:20251026T010000
END:STANDARD
BEGIN:DAYLIGHT
TZOFFSETFROM:+0100
TZOFFSETTO:+0200
TZNAME:CEST
DTSTART:20260329T010000
END:DAYLIGHT
BEGIN:STANDARD
TZOFFSETFROM:+0200
TZOFFSETTO:+0100
TZNAME:CET
DTSTART:20261025T010000
END:STANDARD
BEGIN:DAYLIGHT
TZOFFSETFROM:+0100
TZOFFSETTO:+0200
TZNAME:CEST
DTSTART:20270328T010000
END:DAYLIGHT
BEGIN:STANDARD
TZOFFSETFROM:+0200
TZOFFSETTO:+0100
TZNAME:CET
DTSTART:20271031T010000
END:STANDARD
END:VTIMEZONE
BEGIN:VEVENT
DTSTART;TZID=Europe/Brussels:20260904T180000
DTEND;TZID=Europe/Brussels:20260905T020000
DTSTAMP:20260423T090450
CREATED:20260419T082448Z
LAST-MODIFIED:20260419T082448Z
UID:10004287-1788544800-1788573600@visitpecq.com
SUMMARY:Garden Party
DESCRIPTION:On vous prépare une soirée EX-CEP-TIONNELLE : du son\, des boissons\, de quoi grignoter… et surtout une ambiance de folie  Entrée gratuite bières\, vins\, cocktails\, softs Parc du Musée Jules Jooris – Warcoing\nAlors\, qui sera de la partie ?
URL:https://visitpecq.com/vpevent/garden-party-3/2026-09-04/
LOCATION:Warcoing – Musée Jules Jooris\, rue royale 127\, Warcoing\, Hainaut\, 7740\, Belgium
CATEGORIES:Fêtes/fancy fair/Portes ouvertes
ATTACH;FMTTYPE=image/jpeg:https://visitpecq.com/wp-content/uploads/2026/04/garden-party.jpg
END:VEVENT
END:VCALENDAR