BEGIN:VCALENDAR
VERSION:2.0
PRODID:-//Pecq et ses villages - ECPv6.15.17.1//NONSGML v1.0//EN
CALSCALE:GREGORIAN
METHOD:PUBLISH
X-WR-CALNAME:Pecq et ses villages
X-ORIGINAL-URL:https://visitpecq.com
X-WR-CALDESC:Évènements pour Pecq et ses villages
REFRESH-INTERVAL;VALUE=DURATION:PT1H
X-Robots-Tag:noindex
X-PUBLISHED-TTL:PT1H
BEGIN:VTIMEZONE
TZID:Europe/Brussels
BEGIN:DAYLIGHT
TZOFFSETFROM:+0100
TZOFFSETTO:+0200
TZNAME:CEST
DTSTART:20250330T010000
END:DAYLIGHT
BEGIN:STANDARD
TZOFFSETFROM:+0200
TZOFFSETTO:+0100
TZNAME:CET
DTSTART:20251026T010000
END:STANDARD
BEGIN:DAYLIGHT
TZOFFSETFROM:+0100
TZOFFSETTO:+0200
TZNAME:CEST
DTSTART:20260329T010000
END:DAYLIGHT
BEGIN:STANDARD
TZOFFSETFROM:+0200
TZOFFSETTO:+0100
TZNAME:CET
DTSTART:20261025T010000
END:STANDARD
BEGIN:DAYLIGHT
TZOFFSETFROM:+0100
TZOFFSETTO:+0200
TZNAME:CEST
DTSTART:20270328T010000
END:DAYLIGHT
BEGIN:STANDARD
TZOFFSETFROM:+0200
TZOFFSETTO:+0100
TZNAME:CET
DTSTART:20271031T010000
END:STANDARD
END:VTIMEZONE
BEGIN:VEVENT
DTSTART;TZID=Europe/Brussels:20260428T090000
DTEND;TZID=Europe/Brussels:20260428T160000
DTSTAMP:20260423T090606
CREATED:20260203T091205Z
LAST-MODIFIED:20260203T091205Z
UID:10493-1777366800-1777392000@visitpecq.com
SUMMARY:Les ateliers culinaires de Grain de Zel
DESCRIPTION:STAGE de cuisine avec stimulations logopédiques  mini groupe de 6 enfants min. 1 produit local cuisiné  journée de 9h à 16h sans garderie boissons et collations incluses possibilité d’inscriptions à la journée (35€)\nInscriptions par MP\nReste 2 places ! À vos marques? Prêts !? Pâtissez ! 
URL:https://visitpecq.com/vpevent/les-ateliers-culinaires-de-grain-de-zel-3/
LOCATION:Hérinnes – Grain de Zel\, chaussée d'Audenarde 197\, Hérinnes\, Hainaut\, 7742\, Belgium
CATEGORIES:Ateliers,Stages
ATTACH;FMTTYPE=image/png:https://visitpecq.com/wp-content/uploads/2025/08/enfant-entrain-de-cuisiner-zel.png
ORGANIZER;CN="Grain de Zel":MAILTO:graindezel@gmail.com
END:VEVENT
END:VCALENDAR