BEGIN:VCALENDAR
VERSION:2.0
PRODID:-//Pecq et ses villages - ECPv6.15.17.1//NONSGML v1.0//EN
CALSCALE:GREGORIAN
METHOD:PUBLISH
X-ORIGINAL-URL:https://visitpecq.com
X-WR-CALDESC:Évènements pour Pecq et ses villages
REFRESH-INTERVAL;VALUE=DURATION:PT1H
X-Robots-Tag:noindex
X-PUBLISHED-TTL:PT1H
BEGIN:VTIMEZONE
TZID:Europe/Brussels
BEGIN:DAYLIGHT
TZOFFSETFROM:+0100
TZOFFSETTO:+0200
TZNAME:CEST
DTSTART:20250330T010000
END:DAYLIGHT
BEGIN:STANDARD
TZOFFSETFROM:+0200
TZOFFSETTO:+0100
TZNAME:CET
DTSTART:20251026T010000
END:STANDARD
BEGIN:DAYLIGHT
TZOFFSETFROM:+0100
TZOFFSETTO:+0200
TZNAME:CEST
DTSTART:20260329T010000
END:DAYLIGHT
BEGIN:STANDARD
TZOFFSETFROM:+0200
TZOFFSETTO:+0100
TZNAME:CET
DTSTART:20261025T010000
END:STANDARD
BEGIN:DAYLIGHT
TZOFFSETFROM:+0100
TZOFFSETTO:+0200
TZNAME:CEST
DTSTART:20270328T010000
END:DAYLIGHT
BEGIN:STANDARD
TZOFFSETFROM:+0200
TZOFFSETTO:+0100
TZNAME:CET
DTSTART:20271031T010000
END:STANDARD
END:VTIMEZONE
BEGIN:VEVENT
DTSTART;TZID=Europe/Brussels:20260601T080000
DTEND;TZID=Europe/Brussels:20260601T120000
DTSTAMP:20260425T161256
CREATED:20260406T090525Z
LAST-MODIFIED:20260406T101225Z
UID:10003606-1780300800-1780315200@visitpecq.com
SUMMARY:Permanences Emploi Esc'Ale
DESCRIPTION:
URL:https://visitpecq.com/vpevent/permanences-emploi-escale/2026-06-01/
LOCATION:Pecq – Bibliothèque\, rue des Déportés 8a\, Pecq\, Hainaut\, 7740\, Belgium
CATEGORIES:Entraide
ATTACH;FMTTYPE=image/jpeg:https://visitpecq.com/wp-content/uploads/2026/04/dream-job-2904780_150-2904780.jpg
END:VEVENT
BEGIN:VEVENT
DTSTART;TZID=Europe/Brussels:20260601T133000
DTEND;TZID=Europe/Brussels:20260601T160000
DTSTAMP:20260425T161256
CREATED:20260406T095740Z
LAST-MODIFIED:20260406T101059Z
UID:10003990-1780320600-1780329600@visitpecq.com
SUMMARY:Permanences Emploi PRORIENTA
DESCRIPTION:Prorienta est un centre de réadaptation professionnelle pour adultes situé à Tournai. \nIl permet à toute personne confrontée à un problème de santé : accident de roulage\, domestique\, accident du travail\, maladie ou handicap; de se (re)lancer professionnellement. Il s’agit concrètement de conseiller\, d’évaluer\, d’orienter et/ou de faire acquérir les compétences nécessaires pour l’exercice d’un nouveau métier.\n« Notre objectif est de vous aider à retrouver le chemin de l’emploi. »
URL:https://visitpecq.com/vpevent/permanences-emploi-prorienta/2026-06-01/
LOCATION:Pecq – Bibliothèque\, rue des Déportés 8a\, Pecq\, Hainaut\, 7740\, Belgium
CATEGORIES:Entraide
ATTACH;FMTTYPE=image/jpeg:https://visitpecq.com/wp-content/uploads/2026/04/dream-job-2904780_150-2904780.jpg
END:VEVENT
BEGIN:VEVENT
DTSTART;TZID=Europe/Brussels:20260602T130000
DTEND;TZID=Europe/Brussels:20260602T163000
DTSTAMP:20260425T161256
CREATED:20260406T091109Z
LAST-MODIFIED:20260406T101211Z
UID:10003684-1780405200-1780417800@visitpecq.com
SUMMARY:Permanences Emploi Esc'Ale
DESCRIPTION:
URL:https://visitpecq.com/vpevent/permanences-emploi-escale-2/2026-06-02/
LOCATION:Pecq – Bibliothèque\, rue des Déportés 8a\, Pecq\, Hainaut\, 7740\, Belgium
CATEGORIES:Entraide
ATTACH;FMTTYPE=image/jpeg:https://visitpecq.com/wp-content/uploads/2026/04/dream-job-2904780_150-2904780.jpg
END:VEVENT
BEGIN:VEVENT
DTSTART;TZID=Europe/Brussels:20260603T080000
DTEND;TZID=Europe/Brussels:20260603T120000
DTSTAMP:20260425T161256
CREATED:20260406T102411Z
LAST-MODIFIED:20260406T102411Z
UID:10004102-1780473600-1780488000@visitpecq.com
SUMMARY:Permanences Emploi IMPACT
DESCRIPTION:Dans un monde où l’on peut tout commander du bout des doigts\, il faudra toujours des têtes pensantes et des mains habiles pour créer des choses. Repérer votre talent\, le faire grandir et le placer au bon endroit: c’est notre métier\, réunir des esprits brillants et des mains expertes là où ils font la différence.
URL:https://visitpecq.com/vpevent/permanences-emploi-impact/2026-06-03/
LOCATION:Pecq – Bibliothèque\, rue des Déportés 8a\, Pecq\, Hainaut\, 7740\, Belgium
CATEGORIES:Entraide
ATTACH;FMTTYPE=image/png:https://visitpecq.com/wp-content/uploads/2026/04/job-search.png
END:VEVENT
BEGIN:VEVENT
DTSTART;TZID=Europe/Brussels:20260603T130000
DTEND;TZID=Europe/Brussels:20260603T163000
DTSTAMP:20260425T161256
CREATED:20260406T091157Z
LAST-MODIFIED:20260406T101059Z
UID:10003918-1780491600-1780504200@visitpecq.com
SUMMARY:Permanences Emploi Esc'Ale
DESCRIPTION:
URL:https://visitpecq.com/vpevent/permanences-emploi-escale-3/2026-06-03/
LOCATION:Pecq – Bibliothèque\, rue des Déportés 8a\, Pecq\, Hainaut\, 7740\, Belgium
CATEGORIES:Entraide
ATTACH;FMTTYPE=image/png:https://visitpecq.com/wp-content/uploads/2026/04/job-search.png
END:VEVENT
BEGIN:VEVENT
DTSTART;TZID=Europe/Brussels:20260604T080000
DTEND;TZID=Europe/Brussels:20260604T120000
DTSTAMP:20260425T161256
CREATED:20260406T092127Z
LAST-MODIFIED:20260406T101147Z
UID:10003840-1780560000-1780574400@visitpecq.com
SUMMARY:Permanences Emploi Esc'Ale
DESCRIPTION:
URL:https://visitpecq.com/vpevent/permanences-emploi-escale-4/2026-06-04/
LOCATION:Pecq – Bibliothèque\, rue des Déportés 8a\, Pecq\, Hainaut\, 7740\, Belgium
CATEGORIES:Entraide
ATTACH;FMTTYPE=image/jpeg:https://visitpecq.com/wp-content/uploads/2026/04/dream-job-2904780_150-2904780.jpg
END:VEVENT
BEGIN:VEVENT
DTSTART;TZID=Europe/Brussels:20260604T153000
DTEND;TZID=Europe/Brussels:20260604T180000
DTSTAMP:20260425T161256
CREATED:20260406T103107Z
LAST-MODIFIED:20260406T103107Z
UID:10004231-1780587000-1780596000@visitpecq.com
SUMMARY:Permanences Emploi INFOR JEUNES
DESCRIPTION:L’info pour les Jeunes de 12 à 26 ans
URL:https://visitpecq.com/vpevent/permanences-emploi-infor-jeunes/2026-06-04/
LOCATION:Pecq – Bibliothèque\, rue des Déportés 8a\, Pecq\, Hainaut\, 7740\, Belgium
CATEGORIES:Entraide
ATTACH;FMTTYPE=image/jpeg:https://visitpecq.com/wp-content/uploads/2026/04/dream-job-2904780_150-2904780.jpg
END:VEVENT
BEGIN:VEVENT
DTSTART;TZID=Europe/Brussels:20260608T080000
DTEND;TZID=Europe/Brussels:20260608T120000
DTSTAMP:20260425T161256
CREATED:20260406T090525Z
LAST-MODIFIED:20260406T101225Z
UID:10003607-1780905600-1780920000@visitpecq.com
SUMMARY:Permanences Emploi Esc'Ale
DESCRIPTION:
URL:https://visitpecq.com/vpevent/permanences-emploi-escale/2026-06-08/
LOCATION:Pecq – Bibliothèque\, rue des Déportés 8a\, Pecq\, Hainaut\, 7740\, Belgium
CATEGORIES:Entraide
ATTACH;FMTTYPE=image/jpeg:https://visitpecq.com/wp-content/uploads/2026/04/dream-job-2904780_150-2904780.jpg
END:VEVENT
BEGIN:VEVENT
DTSTART;TZID=Europe/Brussels:20260608T080000
DTEND;TZID=Europe/Brussels:20260608T120000
DTSTAMP:20260425T161256
CREATED:20260406T100857Z
LAST-MODIFIED:20260406T101059Z
UID:10004040-1780905600-1780920000@visitpecq.com
SUMMARY:Permanences Emploi MIREWAPI
DESCRIPTION:  VOTRE PROJET\,\nnotre soutien vers l’emploi\n\n 
URL:https://visitpecq.com/vpevent/permanences-emploi-mirewapi/2026-06-08/
LOCATION:Pecq – Bibliothèque\, rue des Déportés 8a\, Pecq\, Hainaut\, 7740\, Belgium
CATEGORIES:Entraide
ATTACH;FMTTYPE=image/jpeg:https://visitpecq.com/wp-content/uploads/2026/04/dream-job-2904780_150-2904780.jpg
END:VEVENT
BEGIN:VEVENT
DTSTART;TZID=Europe/Brussels:20260609T130000
DTEND;TZID=Europe/Brussels:20260609T163000
DTSTAMP:20260425T161256
CREATED:20260406T091109Z
LAST-MODIFIED:20260406T101211Z
UID:10003685-1781010000-1781022600@visitpecq.com
SUMMARY:Permanences Emploi Esc'Ale
DESCRIPTION:
URL:https://visitpecq.com/vpevent/permanences-emploi-escale-2/2026-06-09/
LOCATION:Pecq – Bibliothèque\, rue des Déportés 8a\, Pecq\, Hainaut\, 7740\, Belgium
CATEGORIES:Entraide
ATTACH;FMTTYPE=image/jpeg:https://visitpecq.com/wp-content/uploads/2026/04/dream-job-2904780_150-2904780.jpg
END:VEVENT
BEGIN:VEVENT
DTSTART;TZID=Europe/Brussels:20260610T080000
DTEND;TZID=Europe/Brussels:20260610T120000
DTSTAMP:20260425T161256
CREATED:20260406T102411Z
LAST-MODIFIED:20260406T102411Z
UID:10004103-1781078400-1781092800@visitpecq.com
SUMMARY:Permanences Emploi IMPACT
DESCRIPTION:Dans un monde où l’on peut tout commander du bout des doigts\, il faudra toujours des têtes pensantes et des mains habiles pour créer des choses. Repérer votre talent\, le faire grandir et le placer au bon endroit: c’est notre métier\, réunir des esprits brillants et des mains expertes là où ils font la différence.
URL:https://visitpecq.com/vpevent/permanences-emploi-impact/2026-06-10/
LOCATION:Pecq – Bibliothèque\, rue des Déportés 8a\, Pecq\, Hainaut\, 7740\, Belgium
CATEGORIES:Entraide
ATTACH;FMTTYPE=image/png:https://visitpecq.com/wp-content/uploads/2026/04/job-search.png
END:VEVENT
BEGIN:VEVENT
DTSTART;TZID=Europe/Brussels:20260610T130000
DTEND;TZID=Europe/Brussels:20260610T163000
DTSTAMP:20260425T161256
CREATED:20260406T091157Z
LAST-MODIFIED:20260406T101059Z
UID:10003919-1781096400-1781109000@visitpecq.com
SUMMARY:Permanences Emploi Esc'Ale
DESCRIPTION:
URL:https://visitpecq.com/vpevent/permanences-emploi-escale-3/2026-06-10/
LOCATION:Pecq – Bibliothèque\, rue des Déportés 8a\, Pecq\, Hainaut\, 7740\, Belgium
CATEGORIES:Entraide
ATTACH;FMTTYPE=image/png:https://visitpecq.com/wp-content/uploads/2026/04/job-search.png
END:VEVENT
BEGIN:VEVENT
DTSTART;TZID=Europe/Brussels:20260611T080000
DTEND;TZID=Europe/Brussels:20260611T120000
DTSTAMP:20260425T161256
CREATED:20260406T092127Z
LAST-MODIFIED:20260406T101147Z
UID:10003841-1781164800-1781179200@visitpecq.com
SUMMARY:Permanences Emploi Esc'Ale
DESCRIPTION:
URL:https://visitpecq.com/vpevent/permanences-emploi-escale-4/2026-06-11/
LOCATION:Pecq – Bibliothèque\, rue des Déportés 8a\, Pecq\, Hainaut\, 7740\, Belgium
CATEGORIES:Entraide
ATTACH;FMTTYPE=image/jpeg:https://visitpecq.com/wp-content/uploads/2026/04/dream-job-2904780_150-2904780.jpg
END:VEVENT
BEGIN:VEVENT
DTSTART;TZID=Europe/Brussels:20260615T080000
DTEND;TZID=Europe/Brussels:20260615T120000
DTSTAMP:20260425T161256
CREATED:20260406T090525Z
LAST-MODIFIED:20260406T101225Z
UID:10003608-1781510400-1781524800@visitpecq.com
SUMMARY:Permanences Emploi Esc'Ale
DESCRIPTION:
URL:https://visitpecq.com/vpevent/permanences-emploi-escale/2026-06-15/
LOCATION:Pecq – Bibliothèque\, rue des Déportés 8a\, Pecq\, Hainaut\, 7740\, Belgium
CATEGORIES:Entraide
ATTACH;FMTTYPE=image/jpeg:https://visitpecq.com/wp-content/uploads/2026/04/dream-job-2904780_150-2904780.jpg
END:VEVENT
BEGIN:VEVENT
DTSTART;TZID=Europe/Brussels:20260616T130000
DTEND;TZID=Europe/Brussels:20260616T163000
DTSTAMP:20260425T161256
CREATED:20260406T091109Z
LAST-MODIFIED:20260406T101211Z
UID:10003686-1781614800-1781627400@visitpecq.com
SUMMARY:Permanences Emploi Esc'Ale
DESCRIPTION:
URL:https://visitpecq.com/vpevent/permanences-emploi-escale-2/2026-06-16/
LOCATION:Pecq – Bibliothèque\, rue des Déportés 8a\, Pecq\, Hainaut\, 7740\, Belgium
CATEGORIES:Entraide
ATTACH;FMTTYPE=image/jpeg:https://visitpecq.com/wp-content/uploads/2026/04/dream-job-2904780_150-2904780.jpg
END:VEVENT
BEGIN:VEVENT
DTSTART;TZID=Europe/Brussels:20260617T080000
DTEND;TZID=Europe/Brussels:20260617T120000
DTSTAMP:20260425T161256
CREATED:20260406T102411Z
LAST-MODIFIED:20260406T102411Z
UID:10004104-1781683200-1781697600@visitpecq.com
SUMMARY:Permanences Emploi IMPACT
DESCRIPTION:Dans un monde où l’on peut tout commander du bout des doigts\, il faudra toujours des têtes pensantes et des mains habiles pour créer des choses. Repérer votre talent\, le faire grandir et le placer au bon endroit: c’est notre métier\, réunir des esprits brillants et des mains expertes là où ils font la différence.
URL:https://visitpecq.com/vpevent/permanences-emploi-impact/2026-06-17/
LOCATION:Pecq – Bibliothèque\, rue des Déportés 8a\, Pecq\, Hainaut\, 7740\, Belgium
CATEGORIES:Entraide
ATTACH;FMTTYPE=image/png:https://visitpecq.com/wp-content/uploads/2026/04/job-search.png
END:VEVENT
BEGIN:VEVENT
DTSTART;TZID=Europe/Brussels:20260617T130000
DTEND;TZID=Europe/Brussels:20260617T163000
DTSTAMP:20260425T161256
CREATED:20260406T091157Z
LAST-MODIFIED:20260406T101059Z
UID:10003920-1781701200-1781713800@visitpecq.com
SUMMARY:Permanences Emploi Esc'Ale
DESCRIPTION:
URL:https://visitpecq.com/vpevent/permanences-emploi-escale-3/2026-06-17/
LOCATION:Pecq – Bibliothèque\, rue des Déportés 8a\, Pecq\, Hainaut\, 7740\, Belgium
CATEGORIES:Entraide
ATTACH;FMTTYPE=image/png:https://visitpecq.com/wp-content/uploads/2026/04/job-search.png
END:VEVENT
BEGIN:VEVENT
DTSTART;TZID=Europe/Brussels:20260618T080000
DTEND;TZID=Europe/Brussels:20260618T120000
DTSTAMP:20260425T161256
CREATED:20260406T092127Z
LAST-MODIFIED:20260406T101147Z
UID:10003842-1781769600-1781784000@visitpecq.com
SUMMARY:Permanences Emploi Esc'Ale
DESCRIPTION:
URL:https://visitpecq.com/vpevent/permanences-emploi-escale-4/2026-06-18/
LOCATION:Pecq – Bibliothèque\, rue des Déportés 8a\, Pecq\, Hainaut\, 7740\, Belgium
CATEGORIES:Entraide
ATTACH;FMTTYPE=image/jpeg:https://visitpecq.com/wp-content/uploads/2026/04/dream-job-2904780_150-2904780.jpg
END:VEVENT
BEGIN:VEVENT
DTSTART;TZID=Europe/Brussels:20260622T080000
DTEND;TZID=Europe/Brussels:20260622T120000
DTSTAMP:20260425T161256
CREATED:20260406T090525Z
LAST-MODIFIED:20260406T101225Z
UID:10003609-1782115200-1782129600@visitpecq.com
SUMMARY:Permanences Emploi Esc'Ale
DESCRIPTION:
URL:https://visitpecq.com/vpevent/permanences-emploi-escale/2026-06-22/
LOCATION:Pecq – Bibliothèque\, rue des Déportés 8a\, Pecq\, Hainaut\, 7740\, Belgium
CATEGORIES:Entraide
ATTACH;FMTTYPE=image/jpeg:https://visitpecq.com/wp-content/uploads/2026/04/dream-job-2904780_150-2904780.jpg
END:VEVENT
BEGIN:VEVENT
DTSTART;TZID=Europe/Brussels:20260622T080000
DTEND;TZID=Europe/Brussels:20260622T120000
DTSTAMP:20260425T161256
CREATED:20260406T100857Z
LAST-MODIFIED:20260406T101059Z
UID:10004041-1782115200-1782129600@visitpecq.com
SUMMARY:Permanences Emploi MIREWAPI
DESCRIPTION:  VOTRE PROJET\,\nnotre soutien vers l’emploi\n\n 
URL:https://visitpecq.com/vpevent/permanences-emploi-mirewapi/2026-06-22/
LOCATION:Pecq – Bibliothèque\, rue des Déportés 8a\, Pecq\, Hainaut\, 7740\, Belgium
CATEGORIES:Entraide
ATTACH;FMTTYPE=image/jpeg:https://visitpecq.com/wp-content/uploads/2026/04/dream-job-2904780_150-2904780.jpg
END:VEVENT
BEGIN:VEVENT
DTSTART;TZID=Europe/Brussels:20260623T130000
DTEND;TZID=Europe/Brussels:20260623T163000
DTSTAMP:20260425T161256
CREATED:20260406T091109Z
LAST-MODIFIED:20260406T101211Z
UID:10003687-1782219600-1782232200@visitpecq.com
SUMMARY:Permanences Emploi Esc'Ale
DESCRIPTION:
URL:https://visitpecq.com/vpevent/permanences-emploi-escale-2/2026-06-23/
LOCATION:Pecq – Bibliothèque\, rue des Déportés 8a\, Pecq\, Hainaut\, 7740\, Belgium
CATEGORIES:Entraide
ATTACH;FMTTYPE=image/jpeg:https://visitpecq.com/wp-content/uploads/2026/04/dream-job-2904780_150-2904780.jpg
END:VEVENT
BEGIN:VEVENT
DTSTART;TZID=Europe/Brussels:20260624T080000
DTEND;TZID=Europe/Brussels:20260624T120000
DTSTAMP:20260425T161256
CREATED:20260406T102411Z
LAST-MODIFIED:20260406T102411Z
UID:10004105-1782288000-1782302400@visitpecq.com
SUMMARY:Permanences Emploi IMPACT
DESCRIPTION:Dans un monde où l’on peut tout commander du bout des doigts\, il faudra toujours des têtes pensantes et des mains habiles pour créer des choses. Repérer votre talent\, le faire grandir et le placer au bon endroit: c’est notre métier\, réunir des esprits brillants et des mains expertes là où ils font la différence.
URL:https://visitpecq.com/vpevent/permanences-emploi-impact/2026-06-24/
LOCATION:Pecq – Bibliothèque\, rue des Déportés 8a\, Pecq\, Hainaut\, 7740\, Belgium
CATEGORIES:Entraide
ATTACH;FMTTYPE=image/png:https://visitpecq.com/wp-content/uploads/2026/04/job-search.png
END:VEVENT
BEGIN:VEVENT
DTSTART;TZID=Europe/Brussels:20260624T130000
DTEND;TZID=Europe/Brussels:20260624T163000
DTSTAMP:20260425T161256
CREATED:20260406T091157Z
LAST-MODIFIED:20260406T101059Z
UID:10003921-1782306000-1782318600@visitpecq.com
SUMMARY:Permanences Emploi Esc'Ale
DESCRIPTION:
URL:https://visitpecq.com/vpevent/permanences-emploi-escale-3/2026-06-24/
LOCATION:Pecq – Bibliothèque\, rue des Déportés 8a\, Pecq\, Hainaut\, 7740\, Belgium
CATEGORIES:Entraide
ATTACH;FMTTYPE=image/png:https://visitpecq.com/wp-content/uploads/2026/04/job-search.png
END:VEVENT
BEGIN:VEVENT
DTSTART;TZID=Europe/Brussels:20260625T080000
DTEND;TZID=Europe/Brussels:20260625T120000
DTSTAMP:20260425T161256
CREATED:20260406T092127Z
LAST-MODIFIED:20260406T101147Z
UID:10003843-1782374400-1782388800@visitpecq.com
SUMMARY:Permanences Emploi Esc'Ale
DESCRIPTION:
URL:https://visitpecq.com/vpevent/permanences-emploi-escale-4/2026-06-25/
LOCATION:Pecq – Bibliothèque\, rue des Déportés 8a\, Pecq\, Hainaut\, 7740\, Belgium
CATEGORIES:Entraide
ATTACH;FMTTYPE=image/jpeg:https://visitpecq.com/wp-content/uploads/2026/04/dream-job-2904780_150-2904780.jpg
END:VEVENT
BEGIN:VEVENT
DTSTART;TZID=Europe/Brussels:20260629T080000
DTEND;TZID=Europe/Brussels:20260629T120000
DTSTAMP:20260425T161256
CREATED:20260406T090525Z
LAST-MODIFIED:20260406T101225Z
UID:10003610-1782720000-1782734400@visitpecq.com
SUMMARY:Permanences Emploi Esc'Ale
DESCRIPTION:
URL:https://visitpecq.com/vpevent/permanences-emploi-escale/2026-06-29/
LOCATION:Pecq – Bibliothèque\, rue des Déportés 8a\, Pecq\, Hainaut\, 7740\, Belgium
CATEGORIES:Entraide
ATTACH;FMTTYPE=image/jpeg:https://visitpecq.com/wp-content/uploads/2026/04/dream-job-2904780_150-2904780.jpg
END:VEVENT
BEGIN:VEVENT
DTSTART;TZID=Europe/Brussels:20260630T130000
DTEND;TZID=Europe/Brussels:20260630T163000
DTSTAMP:20260425T161256
CREATED:20260406T091109Z
LAST-MODIFIED:20260406T101211Z
UID:10003688-1782824400-1782837000@visitpecq.com
SUMMARY:Permanences Emploi Esc'Ale
DESCRIPTION:
URL:https://visitpecq.com/vpevent/permanences-emploi-escale-2/2026-06-30/
LOCATION:Pecq – Bibliothèque\, rue des Déportés 8a\, Pecq\, Hainaut\, 7740\, Belgium
CATEGORIES:Entraide
ATTACH;FMTTYPE=image/jpeg:https://visitpecq.com/wp-content/uploads/2026/04/dream-job-2904780_150-2904780.jpg
END:VEVENT
END:VCALENDAR