BEGIN:VCALENDAR
VERSION:2.0
PRODID:-//Pecq et ses villages - ECPv6.15.17.1//NONSGML v1.0//EN
CALSCALE:GREGORIAN
METHOD:PUBLISH
X-WR-CALNAME:Pecq et ses villages
X-ORIGINAL-URL:https://visitpecq.com
X-WR-CALDESC:Évènements pour Pecq et ses villages
REFRESH-INTERVAL;VALUE=DURATION:PT1H
X-Robots-Tag:noindex
X-PUBLISHED-TTL:PT1H
BEGIN:VTIMEZONE
TZID:Europe/Brussels
BEGIN:DAYLIGHT
TZOFFSETFROM:+0100
TZOFFSETTO:+0200
TZNAME:CEST
DTSTART:20250330T010000
END:DAYLIGHT
BEGIN:STANDARD
TZOFFSETFROM:+0200
TZOFFSETTO:+0100
TZNAME:CET
DTSTART:20251026T010000
END:STANDARD
BEGIN:DAYLIGHT
TZOFFSETFROM:+0100
TZOFFSETTO:+0200
TZNAME:CEST
DTSTART:20260329T010000
END:DAYLIGHT
BEGIN:STANDARD
TZOFFSETFROM:+0200
TZOFFSETTO:+0100
TZNAME:CET
DTSTART:20261025T010000
END:STANDARD
BEGIN:DAYLIGHT
TZOFFSETFROM:+0100
TZOFFSETTO:+0200
TZNAME:CEST
DTSTART:20270328T010000
END:DAYLIGHT
BEGIN:STANDARD
TZOFFSETFROM:+0200
TZOFFSETTO:+0100
TZNAME:CET
DTSTART:20271031T010000
END:STANDARD
END:VTIMEZONE
BEGIN:VEVENT
DTSTART;VALUE=DATE:20260518
DTEND;VALUE=DATE:20260523
DTSTAMP:20260425T142342
CREATED:20260419T081713Z
LAST-MODIFIED:20260419T081809Z
UID:10004284-1779062400-1779494399@visitpecq.com
SUMMARY:Semaine des Pollinisateurs
DESCRIPTION:
URL:https://visitpecq.com/vpevent/semaine-des-pollinisateurs/
LOCATION:Léaucourt\, chemin des Etangs 12a\, Hérinnes\, Hainaut\, 7742\, Belgium
CATEGORIES:Créer & apprendre,Divers
ATTACH;FMTTYPE=image/jpeg:https://visitpecq.com/wp-content/uploads/2026/04/g2c0afdf32651af5294e2c54a40462072050571fc8a1db11a4a837cdabdcddafb193f5075c56136411f5b4aba57983140_640-4369356.jpg
ORGANIZER;CN="La Maison de L%C3%A9aucourt":MAILTO:lamaisondeleaucourt@skynet.be
END:VEVENT
END:VCALENDAR