BEGIN:VCALENDAR
VERSION:2.0
PRODID:-//Pecq et ses villages - ECPv6.15.17.1//NONSGML v1.0//EN
CALSCALE:GREGORIAN
METHOD:PUBLISH
X-ORIGINAL-URL:https://visitpecq.com
X-WR-CALDESC:Évènements pour Pecq et ses villages
REFRESH-INTERVAL;VALUE=DURATION:PT1H
X-Robots-Tag:noindex
X-PUBLISHED-TTL:PT1H
BEGIN:VTIMEZONE
TZID:Europe/Brussels
BEGIN:DAYLIGHT
TZOFFSETFROM:+0100
TZOFFSETTO:+0200
TZNAME:CEST
DTSTART:20250330T010000
END:DAYLIGHT
BEGIN:STANDARD
TZOFFSETFROM:+0200
TZOFFSETTO:+0100
TZNAME:CET
DTSTART:20251026T010000
END:STANDARD
BEGIN:DAYLIGHT
TZOFFSETFROM:+0100
TZOFFSETTO:+0200
TZNAME:CEST
DTSTART:20260329T010000
END:DAYLIGHT
BEGIN:STANDARD
TZOFFSETFROM:+0200
TZOFFSETTO:+0100
TZNAME:CET
DTSTART:20261025T010000
END:STANDARD
BEGIN:DAYLIGHT
TZOFFSETFROM:+0100
TZOFFSETTO:+0200
TZNAME:CEST
DTSTART:20270328T010000
END:DAYLIGHT
BEGIN:STANDARD
TZOFFSETFROM:+0200
TZOFFSETTO:+0100
TZNAME:CET
DTSTART:20271031T010000
END:STANDARD
END:VTIMEZONE
BEGIN:VEVENT
DTSTART;TZID=Europe/Brussels:20260509T183000
DTEND;TZID=Europe/Brussels:20260509T233000
DTSTAMP:20260425T144410
CREATED:20260422T085929Z
LAST-MODIFIED:20260422T085954Z
UID:10004290-1778351400-1778369400@visitpecq.com
SUMMARY:Lions 80'S Fever
DESCRIPTION:
URL:https://visitpecq.com/vpevent/lions-80s-fever/
LOCATION:Pecq – salle paroissiale\, rue des Déportés\, Pecq\, Hainaut\, 7740\, Belgique
CATEGORIES:Divers,Entraide
ATTACH;FMTTYPE=image/png:https://visitpecq.com/wp-content/uploads/2026/04/Lions.png
END:VEVENT
END:VCALENDAR