BEGIN:VCALENDAR
VERSION:2.0
PRODID:-//Pecq et ses villages - ECPv6.15.17.1//NONSGML v1.0//EN
CALSCALE:GREGORIAN
METHOD:PUBLISH
X-ORIGINAL-URL:https://visitpecq.com
X-WR-CALDESC:Évènements pour Pecq et ses villages
REFRESH-INTERVAL;VALUE=DURATION:PT1H
X-Robots-Tag:noindex
X-PUBLISHED-TTL:PT1H
BEGIN:VTIMEZONE
TZID:Europe/Brussels
BEGIN:DAYLIGHT
TZOFFSETFROM:+0100
TZOFFSETTO:+0200
TZNAME:CEST
DTSTART:20250330T010000
END:DAYLIGHT
BEGIN:STANDARD
TZOFFSETFROM:+0200
TZOFFSETTO:+0100
TZNAME:CET
DTSTART:20251026T010000
END:STANDARD
BEGIN:DAYLIGHT
TZOFFSETFROM:+0100
TZOFFSETTO:+0200
TZNAME:CEST
DTSTART:20260329T010000
END:DAYLIGHT
BEGIN:STANDARD
TZOFFSETFROM:+0200
TZOFFSETTO:+0100
TZNAME:CET
DTSTART:20261025T010000
END:STANDARD
BEGIN:DAYLIGHT
TZOFFSETFROM:+0100
TZOFFSETTO:+0200
TZNAME:CEST
DTSTART:20270328T010000
END:DAYLIGHT
BEGIN:STANDARD
TZOFFSETFROM:+0200
TZOFFSETTO:+0100
TZNAME:CET
DTSTART:20271031T010000
END:STANDARD
END:VTIMEZONE
BEGIN:VEVENT
DTSTART;TZID=Europe/Brussels:20260427T080000
DTEND;TZID=Europe/Brussels:20260427T120000
DTSTAMP:20260425T123811
CREATED:20260406T100857Z
LAST-MODIFIED:20260406T101059Z
UID:10004037-1777276800-1777291200@visitpecq.com
SUMMARY:Permanences Emploi MIREWAPI
DESCRIPTION:  VOTRE PROJET\,\nnotre soutien vers l’emploi\n\n 
URL:https://visitpecq.com/vpevent/permanences-emploi-mirewapi/2026-04-27/
LOCATION:Pecq – Bibliothèque\, rue des Déportés 8a\, Pecq\, Hainaut\, 7740\, Belgium
CATEGORIES:Entraide
ATTACH;FMTTYPE=image/jpeg:https://visitpecq.com/wp-content/uploads/2026/04/dream-job-2904780_150-2904780.jpg
END:VEVENT
BEGIN:VEVENT
DTSTART;TZID=Europe/Brussels:20260511T080000
DTEND;TZID=Europe/Brussels:20260511T120000
DTSTAMP:20260425T123811
CREATED:20260406T100857Z
LAST-MODIFIED:20260406T101059Z
UID:10004038-1778486400-1778500800@visitpecq.com
SUMMARY:Permanences Emploi MIREWAPI
DESCRIPTION:  VOTRE PROJET\,\nnotre soutien vers l’emploi\n\n 
URL:https://visitpecq.com/vpevent/permanences-emploi-mirewapi/2026-05-11/
LOCATION:Pecq – Bibliothèque\, rue des Déportés 8a\, Pecq\, Hainaut\, 7740\, Belgium
CATEGORIES:Entraide
ATTACH;FMTTYPE=image/jpeg:https://visitpecq.com/wp-content/uploads/2026/04/dream-job-2904780_150-2904780.jpg
END:VEVENT
BEGIN:VEVENT
DTSTART;TZID=Europe/Brussels:20260525T080000
DTEND;TZID=Europe/Brussels:20260525T120000
DTSTAMP:20260425T123811
CREATED:20260406T100857Z
LAST-MODIFIED:20260406T101059Z
UID:10004039-1779696000-1779710400@visitpecq.com
SUMMARY:Permanences Emploi MIREWAPI
DESCRIPTION:  VOTRE PROJET\,\nnotre soutien vers l’emploi\n\n 
URL:https://visitpecq.com/vpevent/permanences-emploi-mirewapi/2026-05-25/
LOCATION:Pecq – Bibliothèque\, rue des Déportés 8a\, Pecq\, Hainaut\, 7740\, Belgium
CATEGORIES:Entraide
ATTACH;FMTTYPE=image/jpeg:https://visitpecq.com/wp-content/uploads/2026/04/dream-job-2904780_150-2904780.jpg
END:VEVENT
BEGIN:VEVENT
DTSTART;TZID=Europe/Brussels:20260608T080000
DTEND;TZID=Europe/Brussels:20260608T120000
DTSTAMP:20260425T123811
CREATED:20260406T100857Z
LAST-MODIFIED:20260406T101059Z
UID:10004040-1780905600-1780920000@visitpecq.com
SUMMARY:Permanences Emploi MIREWAPI
DESCRIPTION:  VOTRE PROJET\,\nnotre soutien vers l’emploi\n\n 
URL:https://visitpecq.com/vpevent/permanences-emploi-mirewapi/2026-06-08/
LOCATION:Pecq – Bibliothèque\, rue des Déportés 8a\, Pecq\, Hainaut\, 7740\, Belgium
CATEGORIES:Entraide
ATTACH;FMTTYPE=image/jpeg:https://visitpecq.com/wp-content/uploads/2026/04/dream-job-2904780_150-2904780.jpg
END:VEVENT
BEGIN:VEVENT
DTSTART;TZID=Europe/Brussels:20260622T080000
DTEND;TZID=Europe/Brussels:20260622T120000
DTSTAMP:20260425T123811
CREATED:20260406T100857Z
LAST-MODIFIED:20260406T101059Z
UID:10004041-1782115200-1782129600@visitpecq.com
SUMMARY:Permanences Emploi MIREWAPI
DESCRIPTION:  VOTRE PROJET\,\nnotre soutien vers l’emploi\n\n 
URL:https://visitpecq.com/vpevent/permanences-emploi-mirewapi/2026-06-22/
LOCATION:Pecq – Bibliothèque\, rue des Déportés 8a\, Pecq\, Hainaut\, 7740\, Belgium
CATEGORIES:Entraide
ATTACH;FMTTYPE=image/jpeg:https://visitpecq.com/wp-content/uploads/2026/04/dream-job-2904780_150-2904780.jpg
END:VEVENT
BEGIN:VEVENT
DTSTART;TZID=Europe/Brussels:20260706T080000
DTEND;TZID=Europe/Brussels:20260706T120000
DTSTAMP:20260425T123811
CREATED:20260406T100857Z
LAST-MODIFIED:20260406T101059Z
UID:10004042-1783324800-1783339200@visitpecq.com
SUMMARY:Permanences Emploi MIREWAPI
DESCRIPTION:  VOTRE PROJET\,\nnotre soutien vers l’emploi\n\n 
URL:https://visitpecq.com/vpevent/permanences-emploi-mirewapi/2026-07-06/
LOCATION:Pecq – Bibliothèque\, rue des Déportés 8a\, Pecq\, Hainaut\, 7740\, Belgium
CATEGORIES:Entraide
ATTACH;FMTTYPE=image/jpeg:https://visitpecq.com/wp-content/uploads/2026/04/dream-job-2904780_150-2904780.jpg
END:VEVENT
BEGIN:VEVENT
DTSTART;TZID=Europe/Brussels:20260720T080000
DTEND;TZID=Europe/Brussels:20260720T120000
DTSTAMP:20260425T123811
CREATED:20260406T100857Z
LAST-MODIFIED:20260406T101059Z
UID:10004043-1784534400-1784548800@visitpecq.com
SUMMARY:Permanences Emploi MIREWAPI
DESCRIPTION:  VOTRE PROJET\,\nnotre soutien vers l’emploi\n\n 
URL:https://visitpecq.com/vpevent/permanences-emploi-mirewapi/2026-07-20/
LOCATION:Pecq – Bibliothèque\, rue des Déportés 8a\, Pecq\, Hainaut\, 7740\, Belgium
CATEGORIES:Entraide
ATTACH;FMTTYPE=image/jpeg:https://visitpecq.com/wp-content/uploads/2026/04/dream-job-2904780_150-2904780.jpg
END:VEVENT
BEGIN:VEVENT
DTSTART;TZID=Europe/Brussels:20260803T080000
DTEND;TZID=Europe/Brussels:20260803T120000
DTSTAMP:20260425T123811
CREATED:20260406T100857Z
LAST-MODIFIED:20260406T101059Z
UID:10004044-1785744000-1785758400@visitpecq.com
SUMMARY:Permanences Emploi MIREWAPI
DESCRIPTION:  VOTRE PROJET\,\nnotre soutien vers l’emploi\n\n 
URL:https://visitpecq.com/vpevent/permanences-emploi-mirewapi/2026-08-03/
LOCATION:Pecq – Bibliothèque\, rue des Déportés 8a\, Pecq\, Hainaut\, 7740\, Belgium
CATEGORIES:Entraide
ATTACH;FMTTYPE=image/jpeg:https://visitpecq.com/wp-content/uploads/2026/04/dream-job-2904780_150-2904780.jpg
END:VEVENT
BEGIN:VEVENT
DTSTART;TZID=Europe/Brussels:20260817T080000
DTEND;TZID=Europe/Brussels:20260817T120000
DTSTAMP:20260425T123811
CREATED:20260406T100857Z
LAST-MODIFIED:20260406T101059Z
UID:10004045-1786953600-1786968000@visitpecq.com
SUMMARY:Permanences Emploi MIREWAPI
DESCRIPTION:  VOTRE PROJET\,\nnotre soutien vers l’emploi\n\n 
URL:https://visitpecq.com/vpevent/permanences-emploi-mirewapi/2026-08-17/
LOCATION:Pecq – Bibliothèque\, rue des Déportés 8a\, Pecq\, Hainaut\, 7740\, Belgium
CATEGORIES:Entraide
ATTACH;FMTTYPE=image/jpeg:https://visitpecq.com/wp-content/uploads/2026/04/dream-job-2904780_150-2904780.jpg
END:VEVENT
BEGIN:VEVENT
DTSTART;TZID=Europe/Brussels:20260831T080000
DTEND;TZID=Europe/Brussels:20260831T120000
DTSTAMP:20260425T123811
CREATED:20260406T100857Z
LAST-MODIFIED:20260406T101059Z
UID:10004046-1788163200-1788177600@visitpecq.com
SUMMARY:Permanences Emploi MIREWAPI
DESCRIPTION:  VOTRE PROJET\,\nnotre soutien vers l’emploi\n\n 
URL:https://visitpecq.com/vpevent/permanences-emploi-mirewapi/2026-08-31/
LOCATION:Pecq – Bibliothèque\, rue des Déportés 8a\, Pecq\, Hainaut\, 7740\, Belgium
CATEGORIES:Entraide
ATTACH;FMTTYPE=image/jpeg:https://visitpecq.com/wp-content/uploads/2026/04/dream-job-2904780_150-2904780.jpg
END:VEVENT
BEGIN:VEVENT
DTSTART;TZID=Europe/Brussels:20260914T080000
DTEND;TZID=Europe/Brussels:20260914T120000
DTSTAMP:20260425T123811
CREATED:20260406T100857Z
LAST-MODIFIED:20260406T101059Z
UID:10004047-1789372800-1789387200@visitpecq.com
SUMMARY:Permanences Emploi MIREWAPI
DESCRIPTION:  VOTRE PROJET\,\nnotre soutien vers l’emploi\n\n 
URL:https://visitpecq.com/vpevent/permanences-emploi-mirewapi/2026-09-14/
LOCATION:Pecq – Bibliothèque\, rue des Déportés 8a\, Pecq\, Hainaut\, 7740\, Belgium
CATEGORIES:Entraide
ATTACH;FMTTYPE=image/jpeg:https://visitpecq.com/wp-content/uploads/2026/04/dream-job-2904780_150-2904780.jpg
END:VEVENT
BEGIN:VEVENT
DTSTART;TZID=Europe/Brussels:20260928T080000
DTEND;TZID=Europe/Brussels:20260928T120000
DTSTAMP:20260425T123811
CREATED:20260406T100857Z
LAST-MODIFIED:20260406T101059Z
UID:10004048-1790582400-1790596800@visitpecq.com
SUMMARY:Permanences Emploi MIREWAPI
DESCRIPTION:  VOTRE PROJET\,\nnotre soutien vers l’emploi\n\n 
URL:https://visitpecq.com/vpevent/permanences-emploi-mirewapi/2026-09-28/
LOCATION:Pecq – Bibliothèque\, rue des Déportés 8a\, Pecq\, Hainaut\, 7740\, Belgium
CATEGORIES:Entraide
ATTACH;FMTTYPE=image/jpeg:https://visitpecq.com/wp-content/uploads/2026/04/dream-job-2904780_150-2904780.jpg
END:VEVENT
BEGIN:VEVENT
DTSTART;TZID=Europe/Brussels:20261012T080000
DTEND;TZID=Europe/Brussels:20261012T120000
DTSTAMP:20260425T123811
CREATED:20260406T100857Z
LAST-MODIFIED:20260406T101059Z
UID:10004049-1791792000-1791806400@visitpecq.com
SUMMARY:Permanences Emploi MIREWAPI
DESCRIPTION:  VOTRE PROJET\,\nnotre soutien vers l’emploi\n\n 
URL:https://visitpecq.com/vpevent/permanences-emploi-mirewapi/2026-10-12/
LOCATION:Pecq – Bibliothèque\, rue des Déportés 8a\, Pecq\, Hainaut\, 7740\, Belgium
CATEGORIES:Entraide
ATTACH;FMTTYPE=image/jpeg:https://visitpecq.com/wp-content/uploads/2026/04/dream-job-2904780_150-2904780.jpg
END:VEVENT
BEGIN:VEVENT
DTSTART;TZID=Europe/Brussels:20261026T080000
DTEND;TZID=Europe/Brussels:20261026T120000
DTSTAMP:20260425T123811
CREATED:20260406T100857Z
LAST-MODIFIED:20260406T101059Z
UID:10004050-1793001600-1793016000@visitpecq.com
SUMMARY:Permanences Emploi MIREWAPI
DESCRIPTION:  VOTRE PROJET\,\nnotre soutien vers l’emploi\n\n 
URL:https://visitpecq.com/vpevent/permanences-emploi-mirewapi/2026-10-26/
LOCATION:Pecq – Bibliothèque\, rue des Déportés 8a\, Pecq\, Hainaut\, 7740\, Belgium
CATEGORIES:Entraide
ATTACH;FMTTYPE=image/jpeg:https://visitpecq.com/wp-content/uploads/2026/04/dream-job-2904780_150-2904780.jpg
END:VEVENT
BEGIN:VEVENT
DTSTART;TZID=Europe/Brussels:20261109T080000
DTEND;TZID=Europe/Brussels:20261109T120000
DTSTAMP:20260425T123811
CREATED:20260406T100857Z
LAST-MODIFIED:20260406T101059Z
UID:10004051-1794211200-1794225600@visitpecq.com
SUMMARY:Permanences Emploi MIREWAPI
DESCRIPTION:  VOTRE PROJET\,\nnotre soutien vers l’emploi\n\n 
URL:https://visitpecq.com/vpevent/permanences-emploi-mirewapi/2026-11-09/
LOCATION:Pecq – Bibliothèque\, rue des Déportés 8a\, Pecq\, Hainaut\, 7740\, Belgium
CATEGORIES:Entraide
ATTACH;FMTTYPE=image/jpeg:https://visitpecq.com/wp-content/uploads/2026/04/dream-job-2904780_150-2904780.jpg
END:VEVENT
BEGIN:VEVENT
DTSTART;TZID=Europe/Brussels:20261123T080000
DTEND;TZID=Europe/Brussels:20261123T120000
DTSTAMP:20260425T123811
CREATED:20260406T100857Z
LAST-MODIFIED:20260406T101059Z
UID:10004052-1795420800-1795435200@visitpecq.com
SUMMARY:Permanences Emploi MIREWAPI
DESCRIPTION:  VOTRE PROJET\,\nnotre soutien vers l’emploi\n\n 
URL:https://visitpecq.com/vpevent/permanences-emploi-mirewapi/2026-11-23/
LOCATION:Pecq – Bibliothèque\, rue des Déportés 8a\, Pecq\, Hainaut\, 7740\, Belgium
CATEGORIES:Entraide
ATTACH;FMTTYPE=image/jpeg:https://visitpecq.com/wp-content/uploads/2026/04/dream-job-2904780_150-2904780.jpg
END:VEVENT
BEGIN:VEVENT
DTSTART;TZID=Europe/Brussels:20261207T080000
DTEND;TZID=Europe/Brussels:20261207T120000
DTSTAMP:20260425T123811
CREATED:20260406T100857Z
LAST-MODIFIED:20260406T101059Z
UID:10004053-1796630400-1796644800@visitpecq.com
SUMMARY:Permanences Emploi MIREWAPI
DESCRIPTION:  VOTRE PROJET\,\nnotre soutien vers l’emploi\n\n 
URL:https://visitpecq.com/vpevent/permanences-emploi-mirewapi/2026-12-07/
LOCATION:Pecq – Bibliothèque\, rue des Déportés 8a\, Pecq\, Hainaut\, 7740\, Belgium
CATEGORIES:Entraide
ATTACH;FMTTYPE=image/jpeg:https://visitpecq.com/wp-content/uploads/2026/04/dream-job-2904780_150-2904780.jpg
END:VEVENT
BEGIN:VEVENT
DTSTART;TZID=Europe/Brussels:20261221T080000
DTEND;TZID=Europe/Brussels:20261221T120000
DTSTAMP:20260425T123811
CREATED:20260406T100857Z
LAST-MODIFIED:20260406T101059Z
UID:10004054-1797840000-1797854400@visitpecq.com
SUMMARY:Permanences Emploi MIREWAPI
DESCRIPTION:  VOTRE PROJET\,\nnotre soutien vers l’emploi\n\n 
URL:https://visitpecq.com/vpevent/permanences-emploi-mirewapi/2026-12-21/
LOCATION:Pecq – Bibliothèque\, rue des Déportés 8a\, Pecq\, Hainaut\, 7740\, Belgium
CATEGORIES:Entraide
ATTACH;FMTTYPE=image/jpeg:https://visitpecq.com/wp-content/uploads/2026/04/dream-job-2904780_150-2904780.jpg
END:VEVENT
END:VCALENDAR