BEGIN:VCALENDAR
VERSION:2.0
PRODID:-//Pecq et ses villages - ECPv6.15.17.1//NONSGML v1.0//EN
CALSCALE:GREGORIAN
METHOD:PUBLISH
X-ORIGINAL-URL:https://visitpecq.com
X-WR-CALDESC:Évènements pour Pecq et ses villages
REFRESH-INTERVAL;VALUE=DURATION:PT1H
X-Robots-Tag:noindex
X-PUBLISHED-TTL:PT1H
BEGIN:VTIMEZONE
TZID:Europe/Brussels
BEGIN:DAYLIGHT
TZOFFSETFROM:+0100
TZOFFSETTO:+0200
TZNAME:CEST
DTSTART:20250330T010000
END:DAYLIGHT
BEGIN:STANDARD
TZOFFSETFROM:+0200
TZOFFSETTO:+0100
TZNAME:CET
DTSTART:20251026T010000
END:STANDARD
BEGIN:DAYLIGHT
TZOFFSETFROM:+0100
TZOFFSETTO:+0200
TZNAME:CEST
DTSTART:20260329T010000
END:DAYLIGHT
BEGIN:STANDARD
TZOFFSETFROM:+0200
TZOFFSETTO:+0100
TZNAME:CET
DTSTART:20261025T010000
END:STANDARD
BEGIN:DAYLIGHT
TZOFFSETFROM:+0100
TZOFFSETTO:+0200
TZNAME:CEST
DTSTART:20270328T010000
END:DAYLIGHT
BEGIN:STANDARD
TZOFFSETFROM:+0200
TZOFFSETTO:+0100
TZNAME:CET
DTSTART:20271031T010000
END:STANDARD
END:VTIMEZONE
BEGIN:VEVENT
DTSTART;VALUE=DATE:20260425
DTEND;VALUE=DATE:20260426
DTSTAMP:20260425T124654
CREATED:20260328T115619Z
LAST-MODIFIED:20260328T115619Z
UID:10002784-1777075200-1777161599@visitpecq.com
SUMMARY:Portes Ouvertes Home Général Le Maire
DESCRIPTION:
URL:https://visitpecq.com/vpevent/portes-ouvertes-home-general-le-maire/
LOCATION:Hérinnes – Home Général Le Maire\, chaussée d'Audenarde 366\, Hérinnes\, Hainaut\, 7742\, Belgium
CATEGORIES:Evénements,Fêtes/fancy fair/Portes ouvertes
ORGANIZER;CN="Home G%C3%A9n%C3%A9ral Le Maire":MAILTO:julie.opbrouck@cpas-pecq.be
END:VEVENT
BEGIN:VEVENT
DTSTART;TZID=Europe/Brussels:20260425T110000
DTEND;TZID=Europe/Brussels:20260425T230000
DTSTAMP:20260425T124654
CREATED:20260203T091914Z
LAST-MODIFIED:20260203T091914Z
UID:10002735-1777114800-1777158000@visitpecq.com
SUMMARY:Journée Portes ouvertes
DESCRIPTION:𝙎𝒂𝙢𝒆𝙙𝒊 25 𝙖𝒗𝙧𝒊𝙡 𝙙𝒆̀𝙨 11𝙝\nVers l’affiche => clic !\n\n\n 𝗔𝗺𝗯𝗶𝗮𝗻𝗰𝗲 𝗺𝘂𝘀𝗶𝗰𝗮𝗹𝗲 assurée toute la journée par divers artistes\n\n\n 𝗥𝗲𝗽𝗮𝘀 𝗩𝗼𝗹-𝗮𝘂-𝘃𝗲𝗻𝘁\, 𝗳𝗿𝗶𝘁𝗲𝘀\, 𝘀𝗮𝗹𝗮𝗱𝗲 (alternative thon) 𝟭𝟱 € 𝗮𝗱𝘂𝗹𝘁𝗲 | 𝟭𝟬 € 𝗲𝗻𝗳𝗮𝗻𝘁 (– 12 ans) – service de 12h à 14h – 𝗥𝗲́𝘀𝗲𝗿𝘃𝗮𝘁𝗶𝗼𝗻 𝗼𝗯𝗹𝗶𝗴𝗮𝘁𝗼𝗶𝗿𝗲 avant le 16 avril au 069 25 95 80 ou par mail julie.bertrand@cpas-pecq.be\n\n\n 𝗧𝗼𝘂𝗿𝗻𝗼𝗶 𝗱𝗲 𝗯𝗼𝘂𝗿𝗹𝗲𝘀 – inscription sur place dès 14h\n\n\n 𝗖𝗵𝗮̂𝘁𝗲𝗮𝘂 𝗴𝗼𝗻𝗳𝗹𝗮𝗯𝗹𝗲\n\n\n𝑈𝑛𝑒 𝑗𝑜𝑢𝑟𝑛𝑒́𝑒 𝑝𝑜𝑢𝑟 𝑠𝑒 𝑟𝑒𝑛𝑐𝑜𝑛𝑡𝑟𝑒𝑟\, 𝑝𝑎𝑟𝑡𝑎𝑔𝑒𝑟\, 𝑟𝑖𝑟𝑒 𝑒𝑡 𝑠’𝑎𝑚𝑢𝑠𝑒𝑟…\n 𝐵𝑙𝑜𝑞𝑢𝑒𝑧 𝑙𝑎 𝑑𝑎𝑡𝑒 𝑒𝑡 𝑣𝑒𝑛𝑒𝑧 𝑓𝑎𝑖𝑟𝑒 𝑙𝑎 𝑓𝑒̂𝑡𝑒 𝑎𝑣𝑒𝑐 𝑛𝑜𝑢𝑠 !
URL:https://visitpecq.com/vpevent/journee-portes-ouvertes/
LOCATION:Hérinnes – Home Général Le Maire\, chaussée d'Audenarde 366\, Hérinnes\, Hainaut\, 7742\, Belgium
CATEGORIES:Fêtes/fancy fair/Portes ouvertes
ATTACH;FMTTYPE=image/jpeg:https://visitpecq.com/wp-content/uploads/2026/02/pexels-photo-31122932-31122932.jpg
ORGANIZER;CN="Home G%C3%A9n%C3%A9ral Le Maire":MAILTO:julie.opbrouck@cpas-pecq.be
END:VEVENT
BEGIN:VEVENT
DTSTART;TZID=Europe/Brussels:20260427T080000
DTEND;TZID=Europe/Brussels:20260427T120000
DTSTAMP:20260425T124654
CREATED:20260406T090525Z
LAST-MODIFIED:20260406T101225Z
UID:10003601-1777276800-1777291200@visitpecq.com
SUMMARY:Permanences Emploi Esc'Ale
DESCRIPTION:
URL:https://visitpecq.com/vpevent/permanences-emploi-escale/2026-04-27/
LOCATION:Pecq – Bibliothèque\, rue des Déportés 8a\, Pecq\, Hainaut\, 7740\, Belgium
CATEGORIES:Entraide
ATTACH;FMTTYPE=image/jpeg:https://visitpecq.com/wp-content/uploads/2026/04/dream-job-2904780_150-2904780.jpg
END:VEVENT
BEGIN:VEVENT
DTSTART;TZID=Europe/Brussels:20260427T080000
DTEND;TZID=Europe/Brussels:20260427T120000
DTSTAMP:20260425T124654
CREATED:20260406T100857Z
LAST-MODIFIED:20260406T101059Z
UID:10004037-1777276800-1777291200@visitpecq.com
SUMMARY:Permanences Emploi MIREWAPI
DESCRIPTION:  VOTRE PROJET\,\nnotre soutien vers l’emploi\n\n 
URL:https://visitpecq.com/vpevent/permanences-emploi-mirewapi/2026-04-27/
LOCATION:Pecq – Bibliothèque\, rue des Déportés 8a\, Pecq\, Hainaut\, 7740\, Belgium
CATEGORIES:Entraide
ATTACH;FMTTYPE=image/jpeg:https://visitpecq.com/wp-content/uploads/2026/04/dream-job-2904780_150-2904780.jpg
END:VEVENT
BEGIN:VEVENT
DTSTART;TZID=Europe/Brussels:20260428T130000
DTEND;TZID=Europe/Brussels:20260428T163000
DTSTAMP:20260425T124654
CREATED:20260406T091109Z
LAST-MODIFIED:20260406T101211Z
UID:10003679-1777381200-1777393800@visitpecq.com
SUMMARY:Permanences Emploi Esc'Ale
DESCRIPTION:
URL:https://visitpecq.com/vpevent/permanences-emploi-escale-2/2026-04-28/
LOCATION:Pecq – Bibliothèque\, rue des Déportés 8a\, Pecq\, Hainaut\, 7740\, Belgium
CATEGORIES:Entraide
ATTACH;FMTTYPE=image/jpeg:https://visitpecq.com/wp-content/uploads/2026/04/dream-job-2904780_150-2904780.jpg
END:VEVENT
BEGIN:VEVENT
DTSTART;TZID=Europe/Brussels:20260429T080000
DTEND;TZID=Europe/Brussels:20260429T120000
DTSTAMP:20260425T124654
CREATED:20260406T102411Z
LAST-MODIFIED:20260406T102411Z
UID:10004097-1777449600-1777464000@visitpecq.com
SUMMARY:Permanences Emploi IMPACT
DESCRIPTION:Dans un monde où l’on peut tout commander du bout des doigts\, il faudra toujours des têtes pensantes et des mains habiles pour créer des choses. Repérer votre talent\, le faire grandir et le placer au bon endroit: c’est notre métier\, réunir des esprits brillants et des mains expertes là où ils font la différence.
URL:https://visitpecq.com/vpevent/permanences-emploi-impact/2026-04-29/
LOCATION:Pecq – Bibliothèque\, rue des Déportés 8a\, Pecq\, Hainaut\, 7740\, Belgium
CATEGORIES:Entraide
ATTACH;FMTTYPE=image/png:https://visitpecq.com/wp-content/uploads/2026/04/job-search.png
END:VEVENT
BEGIN:VEVENT
DTSTART;TZID=Europe/Brussels:20260429T130000
DTEND;TZID=Europe/Brussels:20260429T163000
DTSTAMP:20260425T124654
CREATED:20260406T091157Z
LAST-MODIFIED:20260406T101059Z
UID:10003913-1777467600-1777480200@visitpecq.com
SUMMARY:Permanences Emploi Esc'Ale
DESCRIPTION:
URL:https://visitpecq.com/vpevent/permanences-emploi-escale-3/2026-04-29/
LOCATION:Pecq – Bibliothèque\, rue des Déportés 8a\, Pecq\, Hainaut\, 7740\, Belgium
CATEGORIES:Entraide
ATTACH;FMTTYPE=image/png:https://visitpecq.com/wp-content/uploads/2026/04/job-search.png
END:VEVENT
BEGIN:VEVENT
DTSTART;TZID=Europe/Brussels:20260430T080000
DTEND;TZID=Europe/Brussels:20260430T120000
DTSTAMP:20260425T124654
CREATED:20260406T092127Z
LAST-MODIFIED:20260406T101147Z
UID:10003835-1777536000-1777550400@visitpecq.com
SUMMARY:Permanences Emploi Esc'Ale
DESCRIPTION:
URL:https://visitpecq.com/vpevent/permanences-emploi-escale-4/2026-04-30/
LOCATION:Pecq – Bibliothèque\, rue des Déportés 8a\, Pecq\, Hainaut\, 7740\, Belgium
CATEGORIES:Entraide
ATTACH;FMTTYPE=image/jpeg:https://visitpecq.com/wp-content/uploads/2026/04/dream-job-2904780_150-2904780.jpg
END:VEVENT
BEGIN:VEVENT
DTSTART;TZID=Europe/Brussels:20260504T080000
DTEND;TZID=Europe/Brussels:20260504T120000
DTSTAMP:20260425T124654
CREATED:20260406T090525Z
LAST-MODIFIED:20260406T101225Z
UID:10003602-1777881600-1777896000@visitpecq.com
SUMMARY:Permanences Emploi Esc'Ale
DESCRIPTION:
URL:https://visitpecq.com/vpevent/permanences-emploi-escale/2026-05-04/
LOCATION:Pecq – Bibliothèque\, rue des Déportés 8a\, Pecq\, Hainaut\, 7740\, Belgium
CATEGORIES:Entraide
ATTACH;FMTTYPE=image/jpeg:https://visitpecq.com/wp-content/uploads/2026/04/dream-job-2904780_150-2904780.jpg
END:VEVENT
BEGIN:VEVENT
DTSTART;TZID=Europe/Brussels:20260504T133000
DTEND;TZID=Europe/Brussels:20260504T160000
DTSTAMP:20260425T124654
CREATED:20260406T095740Z
LAST-MODIFIED:20260406T101059Z
UID:10003989-1777901400-1777910400@visitpecq.com
SUMMARY:Permanences Emploi PRORIENTA
DESCRIPTION:Prorienta est un centre de réadaptation professionnelle pour adultes situé à Tournai. \nIl permet à toute personne confrontée à un problème de santé : accident de roulage\, domestique\, accident du travail\, maladie ou handicap; de se (re)lancer professionnellement. Il s’agit concrètement de conseiller\, d’évaluer\, d’orienter et/ou de faire acquérir les compétences nécessaires pour l’exercice d’un nouveau métier.\n« Notre objectif est de vous aider à retrouver le chemin de l’emploi. »
URL:https://visitpecq.com/vpevent/permanences-emploi-prorienta/2026-05-04/
LOCATION:Pecq – Bibliothèque\, rue des Déportés 8a\, Pecq\, Hainaut\, 7740\, Belgium
CATEGORIES:Entraide
ATTACH;FMTTYPE=image/jpeg:https://visitpecq.com/wp-content/uploads/2026/04/dream-job-2904780_150-2904780.jpg
END:VEVENT
BEGIN:VEVENT
DTSTART;TZID=Europe/Brussels:20260505T130000
DTEND;TZID=Europe/Brussels:20260505T163000
DTSTAMP:20260425T124654
CREATED:20260406T091109Z
LAST-MODIFIED:20260406T101211Z
UID:10003680-1777986000-1777998600@visitpecq.com
SUMMARY:Permanences Emploi Esc'Ale
DESCRIPTION:
URL:https://visitpecq.com/vpevent/permanences-emploi-escale-2/2026-05-05/
LOCATION:Pecq – Bibliothèque\, rue des Déportés 8a\, Pecq\, Hainaut\, 7740\, Belgium
CATEGORIES:Entraide
ATTACH;FMTTYPE=image/jpeg:https://visitpecq.com/wp-content/uploads/2026/04/dream-job-2904780_150-2904780.jpg
END:VEVENT
BEGIN:VEVENT
DTSTART;TZID=Europe/Brussels:20260506T080000
DTEND;TZID=Europe/Brussels:20260506T120000
DTSTAMP:20260425T124654
CREATED:20260406T102411Z
LAST-MODIFIED:20260406T102411Z
UID:10004098-1778054400-1778068800@visitpecq.com
SUMMARY:Permanences Emploi IMPACT
DESCRIPTION:Dans un monde où l’on peut tout commander du bout des doigts\, il faudra toujours des têtes pensantes et des mains habiles pour créer des choses. Repérer votre talent\, le faire grandir et le placer au bon endroit: c’est notre métier\, réunir des esprits brillants et des mains expertes là où ils font la différence.
URL:https://visitpecq.com/vpevent/permanences-emploi-impact/2026-05-06/
LOCATION:Pecq – Bibliothèque\, rue des Déportés 8a\, Pecq\, Hainaut\, 7740\, Belgium
CATEGORIES:Entraide
ATTACH;FMTTYPE=image/png:https://visitpecq.com/wp-content/uploads/2026/04/job-search.png
END:VEVENT
BEGIN:VEVENT
DTSTART;TZID=Europe/Brussels:20260506T130000
DTEND;TZID=Europe/Brussels:20260506T163000
DTSTAMP:20260425T124654
CREATED:20260406T091157Z
LAST-MODIFIED:20260406T101059Z
UID:10003914-1778072400-1778085000@visitpecq.com
SUMMARY:Permanences Emploi Esc'Ale
DESCRIPTION:
URL:https://visitpecq.com/vpevent/permanences-emploi-escale-3/2026-05-06/
LOCATION:Pecq – Bibliothèque\, rue des Déportés 8a\, Pecq\, Hainaut\, 7740\, Belgium
CATEGORIES:Entraide
ATTACH;FMTTYPE=image/png:https://visitpecq.com/wp-content/uploads/2026/04/job-search.png
END:VEVENT
BEGIN:VEVENT
DTSTART;TZID=Europe/Brussels:20260507T080000
DTEND;TZID=Europe/Brussels:20260507T120000
DTSTAMP:20260425T124654
CREATED:20260406T092127Z
LAST-MODIFIED:20260406T101147Z
UID:10003836-1778140800-1778155200@visitpecq.com
SUMMARY:Permanences Emploi Esc'Ale
DESCRIPTION:
URL:https://visitpecq.com/vpevent/permanences-emploi-escale-4/2026-05-07/
LOCATION:Pecq – Bibliothèque\, rue des Déportés 8a\, Pecq\, Hainaut\, 7740\, Belgium
CATEGORIES:Entraide
ATTACH;FMTTYPE=image/jpeg:https://visitpecq.com/wp-content/uploads/2026/04/dream-job-2904780_150-2904780.jpg
END:VEVENT
BEGIN:VEVENT
DTSTART;TZID=Europe/Brussels:20260511T080000
DTEND;TZID=Europe/Brussels:20260511T120000
DTSTAMP:20260425T124654
CREATED:20260406T090525Z
LAST-MODIFIED:20260406T101225Z
UID:10003603-1778486400-1778500800@visitpecq.com
SUMMARY:Permanences Emploi Esc'Ale
DESCRIPTION:
URL:https://visitpecq.com/vpevent/permanences-emploi-escale/2026-05-11/
LOCATION:Pecq – Bibliothèque\, rue des Déportés 8a\, Pecq\, Hainaut\, 7740\, Belgium
CATEGORIES:Entraide
ATTACH;FMTTYPE=image/jpeg:https://visitpecq.com/wp-content/uploads/2026/04/dream-job-2904780_150-2904780.jpg
END:VEVENT
BEGIN:VEVENT
DTSTART;TZID=Europe/Brussels:20260511T080000
DTEND;TZID=Europe/Brussels:20260511T120000
DTSTAMP:20260425T124654
CREATED:20260406T100857Z
LAST-MODIFIED:20260406T101059Z
UID:10004038-1778486400-1778500800@visitpecq.com
SUMMARY:Permanences Emploi MIREWAPI
DESCRIPTION:  VOTRE PROJET\,\nnotre soutien vers l’emploi\n\n 
URL:https://visitpecq.com/vpevent/permanences-emploi-mirewapi/2026-05-11/
LOCATION:Pecq – Bibliothèque\, rue des Déportés 8a\, Pecq\, Hainaut\, 7740\, Belgium
CATEGORIES:Entraide
ATTACH;FMTTYPE=image/jpeg:https://visitpecq.com/wp-content/uploads/2026/04/dream-job-2904780_150-2904780.jpg
END:VEVENT
BEGIN:VEVENT
DTSTART;TZID=Europe/Brussels:20260512T130000
DTEND;TZID=Europe/Brussels:20260512T163000
DTSTAMP:20260425T124654
CREATED:20260406T091109Z
LAST-MODIFIED:20260406T101211Z
UID:10003681-1778590800-1778603400@visitpecq.com
SUMMARY:Permanences Emploi Esc'Ale
DESCRIPTION:
URL:https://visitpecq.com/vpevent/permanences-emploi-escale-2/2026-05-12/
LOCATION:Pecq – Bibliothèque\, rue des Déportés 8a\, Pecq\, Hainaut\, 7740\, Belgium
CATEGORIES:Entraide
ATTACH;FMTTYPE=image/jpeg:https://visitpecq.com/wp-content/uploads/2026/04/dream-job-2904780_150-2904780.jpg
END:VEVENT
BEGIN:VEVENT
DTSTART;TZID=Europe/Brussels:20260513T080000
DTEND;TZID=Europe/Brussels:20260513T120000
DTSTAMP:20260425T124654
CREATED:20260406T102411Z
LAST-MODIFIED:20260406T102411Z
UID:10004099-1778659200-1778673600@visitpecq.com
SUMMARY:Permanences Emploi IMPACT
DESCRIPTION:Dans un monde où l’on peut tout commander du bout des doigts\, il faudra toujours des têtes pensantes et des mains habiles pour créer des choses. Repérer votre talent\, le faire grandir et le placer au bon endroit: c’est notre métier\, réunir des esprits brillants et des mains expertes là où ils font la différence.
URL:https://visitpecq.com/vpevent/permanences-emploi-impact/2026-05-13/
LOCATION:Pecq – Bibliothèque\, rue des Déportés 8a\, Pecq\, Hainaut\, 7740\, Belgium
CATEGORIES:Entraide
ATTACH;FMTTYPE=image/png:https://visitpecq.com/wp-content/uploads/2026/04/job-search.png
END:VEVENT
BEGIN:VEVENT
DTSTART;TZID=Europe/Brussels:20260513T130000
DTEND;TZID=Europe/Brussels:20260513T163000
DTSTAMP:20260425T124654
CREATED:20260406T091157Z
LAST-MODIFIED:20260406T101059Z
UID:10003915-1778677200-1778689800@visitpecq.com
SUMMARY:Permanences Emploi Esc'Ale
DESCRIPTION:
URL:https://visitpecq.com/vpevent/permanences-emploi-escale-3/2026-05-13/
LOCATION:Pecq – Bibliothèque\, rue des Déportés 8a\, Pecq\, Hainaut\, 7740\, Belgium
CATEGORIES:Entraide
ATTACH;FMTTYPE=image/png:https://visitpecq.com/wp-content/uploads/2026/04/job-search.png
END:VEVENT
BEGIN:VEVENT
DTSTART;TZID=Europe/Brussels:20260514T080000
DTEND;TZID=Europe/Brussels:20260514T120000
DTSTAMP:20260425T124654
CREATED:20260406T092127Z
LAST-MODIFIED:20260406T101147Z
UID:10003837-1778745600-1778760000@visitpecq.com
SUMMARY:Permanences Emploi Esc'Ale
DESCRIPTION:
URL:https://visitpecq.com/vpevent/permanences-emploi-escale-4/2026-05-14/
LOCATION:Pecq – Bibliothèque\, rue des Déportés 8a\, Pecq\, Hainaut\, 7740\, Belgium
CATEGORIES:Entraide
ATTACH;FMTTYPE=image/jpeg:https://visitpecq.com/wp-content/uploads/2026/04/dream-job-2904780_150-2904780.jpg
END:VEVENT
BEGIN:VEVENT
DTSTART;TZID=Europe/Brussels:20260518T080000
DTEND;TZID=Europe/Brussels:20260518T120000
DTSTAMP:20260425T124654
CREATED:20260406T090525Z
LAST-MODIFIED:20260406T101225Z
UID:10003604-1779091200-1779105600@visitpecq.com
SUMMARY:Permanences Emploi Esc'Ale
DESCRIPTION:
URL:https://visitpecq.com/vpevent/permanences-emploi-escale/2026-05-18/
LOCATION:Pecq – Bibliothèque\, rue des Déportés 8a\, Pecq\, Hainaut\, 7740\, Belgium
CATEGORIES:Entraide
ATTACH;FMTTYPE=image/jpeg:https://visitpecq.com/wp-content/uploads/2026/04/dream-job-2904780_150-2904780.jpg
END:VEVENT
BEGIN:VEVENT
DTSTART;TZID=Europe/Brussels:20260519T130000
DTEND;TZID=Europe/Brussels:20260519T163000
DTSTAMP:20260425T124654
CREATED:20260406T091109Z
LAST-MODIFIED:20260406T101211Z
UID:10003682-1779195600-1779208200@visitpecq.com
SUMMARY:Permanences Emploi Esc'Ale
DESCRIPTION:
URL:https://visitpecq.com/vpevent/permanences-emploi-escale-2/2026-05-19/
LOCATION:Pecq – Bibliothèque\, rue des Déportés 8a\, Pecq\, Hainaut\, 7740\, Belgium
CATEGORIES:Entraide
ATTACH;FMTTYPE=image/jpeg:https://visitpecq.com/wp-content/uploads/2026/04/dream-job-2904780_150-2904780.jpg
END:VEVENT
BEGIN:VEVENT
DTSTART;TZID=Europe/Brussels:20260520T080000
DTEND;TZID=Europe/Brussels:20260520T120000
DTSTAMP:20260425T124654
CREATED:20260406T102411Z
LAST-MODIFIED:20260406T102411Z
UID:10004100-1779264000-1779278400@visitpecq.com
SUMMARY:Permanences Emploi IMPACT
DESCRIPTION:Dans un monde où l’on peut tout commander du bout des doigts\, il faudra toujours des têtes pensantes et des mains habiles pour créer des choses. Repérer votre talent\, le faire grandir et le placer au bon endroit: c’est notre métier\, réunir des esprits brillants et des mains expertes là où ils font la différence.
URL:https://visitpecq.com/vpevent/permanences-emploi-impact/2026-05-20/
LOCATION:Pecq – Bibliothèque\, rue des Déportés 8a\, Pecq\, Hainaut\, 7740\, Belgium
CATEGORIES:Entraide
ATTACH;FMTTYPE=image/png:https://visitpecq.com/wp-content/uploads/2026/04/job-search.png
END:VEVENT
BEGIN:VEVENT
DTSTART;TZID=Europe/Brussels:20260520T130000
DTEND;TZID=Europe/Brussels:20260520T163000
DTSTAMP:20260425T124654
CREATED:20260406T091157Z
LAST-MODIFIED:20260406T101059Z
UID:10003916-1779282000-1779294600@visitpecq.com
SUMMARY:Permanences Emploi Esc'Ale
DESCRIPTION:
URL:https://visitpecq.com/vpevent/permanences-emploi-escale-3/2026-05-20/
LOCATION:Pecq – Bibliothèque\, rue des Déportés 8a\, Pecq\, Hainaut\, 7740\, Belgium
CATEGORIES:Entraide
ATTACH;FMTTYPE=image/png:https://visitpecq.com/wp-content/uploads/2026/04/job-search.png
END:VEVENT
BEGIN:VEVENT
DTSTART;TZID=Europe/Brussels:20260521T080000
DTEND;TZID=Europe/Brussels:20260521T120000
DTSTAMP:20260425T124654
CREATED:20260406T092127Z
LAST-MODIFIED:20260406T101147Z
UID:10003838-1779350400-1779364800@visitpecq.com
SUMMARY:Permanences Emploi Esc'Ale
DESCRIPTION:
URL:https://visitpecq.com/vpevent/permanences-emploi-escale-4/2026-05-21/
LOCATION:Pecq – Bibliothèque\, rue des Déportés 8a\, Pecq\, Hainaut\, 7740\, Belgium
CATEGORIES:Entraide
ATTACH;FMTTYPE=image/jpeg:https://visitpecq.com/wp-content/uploads/2026/04/dream-job-2904780_150-2904780.jpg
END:VEVENT
BEGIN:VEVENT
DTSTART;TZID=Europe/Brussels:20260525T080000
DTEND;TZID=Europe/Brussels:20260525T120000
DTSTAMP:20260425T124654
CREATED:20260406T090525Z
LAST-MODIFIED:20260406T101225Z
UID:10003605-1779696000-1779710400@visitpecq.com
SUMMARY:Permanences Emploi Esc'Ale
DESCRIPTION:
URL:https://visitpecq.com/vpevent/permanences-emploi-escale/2026-05-25/
LOCATION:Pecq – Bibliothèque\, rue des Déportés 8a\, Pecq\, Hainaut\, 7740\, Belgium
CATEGORIES:Entraide
ATTACH;FMTTYPE=image/jpeg:https://visitpecq.com/wp-content/uploads/2026/04/dream-job-2904780_150-2904780.jpg
END:VEVENT
BEGIN:VEVENT
DTSTART;TZID=Europe/Brussels:20260525T080000
DTEND;TZID=Europe/Brussels:20260525T120000
DTSTAMP:20260425T124654
CREATED:20260406T100857Z
LAST-MODIFIED:20260406T101059Z
UID:10004039-1779696000-1779710400@visitpecq.com
SUMMARY:Permanences Emploi MIREWAPI
DESCRIPTION:  VOTRE PROJET\,\nnotre soutien vers l’emploi\n\n 
URL:https://visitpecq.com/vpevent/permanences-emploi-mirewapi/2026-05-25/
LOCATION:Pecq – Bibliothèque\, rue des Déportés 8a\, Pecq\, Hainaut\, 7740\, Belgium
CATEGORIES:Entraide
ATTACH;FMTTYPE=image/jpeg:https://visitpecq.com/wp-content/uploads/2026/04/dream-job-2904780_150-2904780.jpg
END:VEVENT
BEGIN:VEVENT
DTSTART;TZID=Europe/Brussels:20260526T130000
DTEND;TZID=Europe/Brussels:20260526T163000
DTSTAMP:20260425T124654
CREATED:20260406T091109Z
LAST-MODIFIED:20260406T101211Z
UID:10003683-1779800400-1779813000@visitpecq.com
SUMMARY:Permanences Emploi Esc'Ale
DESCRIPTION:
URL:https://visitpecq.com/vpevent/permanences-emploi-escale-2/2026-05-26/
LOCATION:Pecq – Bibliothèque\, rue des Déportés 8a\, Pecq\, Hainaut\, 7740\, Belgium
CATEGORIES:Entraide
ATTACH;FMTTYPE=image/jpeg:https://visitpecq.com/wp-content/uploads/2026/04/dream-job-2904780_150-2904780.jpg
END:VEVENT
BEGIN:VEVENT
DTSTART;TZID=Europe/Brussels:20260527T080000
DTEND;TZID=Europe/Brussels:20260527T120000
DTSTAMP:20260425T124654
CREATED:20260406T102411Z
LAST-MODIFIED:20260406T102411Z
UID:10004101-1779868800-1779883200@visitpecq.com
SUMMARY:Permanences Emploi IMPACT
DESCRIPTION:Dans un monde où l’on peut tout commander du bout des doigts\, il faudra toujours des têtes pensantes et des mains habiles pour créer des choses. Repérer votre talent\, le faire grandir et le placer au bon endroit: c’est notre métier\, réunir des esprits brillants et des mains expertes là où ils font la différence.
URL:https://visitpecq.com/vpevent/permanences-emploi-impact/2026-05-27/
LOCATION:Pecq – Bibliothèque\, rue des Déportés 8a\, Pecq\, Hainaut\, 7740\, Belgium
CATEGORIES:Entraide
ATTACH;FMTTYPE=image/png:https://visitpecq.com/wp-content/uploads/2026/04/job-search.png
END:VEVENT
BEGIN:VEVENT
DTSTART;TZID=Europe/Brussels:20260527T130000
DTEND;TZID=Europe/Brussels:20260527T163000
DTSTAMP:20260425T124654
CREATED:20260406T091157Z
LAST-MODIFIED:20260406T101059Z
UID:10003917-1779886800-1779899400@visitpecq.com
SUMMARY:Permanences Emploi Esc'Ale
DESCRIPTION:
URL:https://visitpecq.com/vpevent/permanences-emploi-escale-3/2026-05-27/
LOCATION:Pecq – Bibliothèque\, rue des Déportés 8a\, Pecq\, Hainaut\, 7740\, Belgium
CATEGORIES:Entraide
ATTACH;FMTTYPE=image/png:https://visitpecq.com/wp-content/uploads/2026/04/job-search.png
END:VEVENT
END:VCALENDAR